BEGIN:VCALENDAR
VERSION:2.0
PRODID:-//ChamberMaster//Event Calendar 2.0//EN
METHOD:PUBLISH
X-PUBLISHED-TTL:P3D
REFRESH-INTERVAL:P3D
CALSCALE:GREGORIAN
BEGIN:VEVENT
DTSTART:20191206T164500Z
DTEND:20191206T200000Z
X-MICROSOFT-CDO-ALLDAYEVENT:FALSE
SUMMARY:Pioneer Center's 14th Annual Holiday Book Review
DESCRIPTION:This exciting event\, seating over 400 ladies\, offers a grand raffle\, over 50 raffle baskets and an author/speaker during a plated luncheon. The featured speaker\, renowned author\, Becky Melby\, will give a wonderful Christmas talk on how we got from "Bethlehem to Amazon". This event is as an annual way for women in McHenry county to kick-off their holiday season while supporting Pioneer Center.
X-ALT-DESC;FMTTYPE=text/html:<span style="color:rgb(34\, 34\, 34)\; font-family:lato\; font-size:20px">This exciting event\, seating over 400 ladies\, offers a grand raffle\, over 50 raffle baskets and an author/speaker during a plated luncheon. The featured speaker\, renowned author\, Becky Melby\, will give a wonderful Christmas talk on how we got from &quot\;Bethlehem to Amazon&quot\;. This event is as an annual way for women in McHenry county to kick-off their holiday season while supporting Pioneer Center.</span>
LOCATION:D'Andrea Banquets 4419 US-14 Crystal Lake\, IL 60014
UID:e.2851.10422
SEQUENCE:3
DTSTAMP:20260423T053410Z
URL:https://business.woodstockilchamber.com/events/details/14th-annual-holiday-book-review-10422
END:VEVENT

END:VCALENDAR
