BEGIN:VCALENDAR
VERSION:2.0
PRODID:-//ChamberMaster//Event Calendar 2.0//EN
METHOD:PUBLISH
X-PUBLISHED-TTL:P3D
REFRESH-INTERVAL:P3D
CALSCALE:GREGORIAN
BEGIN:VEVENT
DTSTART:20191205T230000Z
DTEND:20191206T030000Z
X-MICROSOFT-CDO-ALLDAYEVENT:FALSE
SUMMARY:2019 Ladies Night Out
DESCRIPTION:Woodstock's Ladies Nite Out is back for its' 16th consecutive year! 80's Nite Ladies Nite is this year's theme so pull out your leg warmers\, scrunchies\, and some Aqua Net to travel back to the 80's with us! The fun starts at 5 PM Thursday\, December 5\, 2019. Stores close at 9PM but local bars will be open later if you aren?t quite ready to return to this decade! Take a well-deserved break from holiday planning and enjoy an evening out with the ladies you love spending time with! Create fond memories in downtown Woodstock because that's what the season is really all about!\n\n\n\nOur traditional Ladies Nite Out activities and giveaways are free to all while quantities last! Tote bags are back and available to the first 500 attendees and VIP ticket holders. This year you will find a handy coupon book inside each bag so you know where to do your shopping! Everyone who attends will be entered into a drawing to win a fabulous gift basket donated by Savior World ($250 Value). Increase your chance to win by purchasing more tickets at registration. You can register for the Ladies Nite VIP Experience with or without reserved parking again this year.\n\n\n\nDon't miss the 80's themed photo booth at EmpowHer Boutique! Get your favorite ladies together for a fun group pic you can share for years to come!\n\n\n\nSouvenir Ladies Nite Out Drink Cups will be available for purchase at Stage Left Cafe for $5.00. This cup allows you to Shop and Sip around the Square from 5-9pm. (Please note other containers are not allowed for open carry). With this cup you can go to any bar or restaurant to buy a drink and pour it in the cup to shop and sip. Alcohol must be kept within the perimeter of the Square as designated by vertical cones and signage prohibiting alcohol beyond those points.\n\n\n\nThis year's VIP pass offers access to three VIP food and beverage stations around the Square for refueling during the night! These VIP stations will be located at EmpowHer Boutique\, Mixin Mingle and D&A Salon l Apothecary. Tasty morsels from The Public House of Woodstock\, Papa Murphy's Pizza and another local restaurant will be served along with White Claws\, Red and White Wine and Blue Moon. VIP tickets are limited so purchase yours before they are gone!\n\n\n\nVIP Pass\, $35 includes\;\n\n- VIP Check-In\n\n- VIP Lanyard\n\n- Souvenir Tote with 80's Swag and Coupon Book\n\n- Wine Glass - Ladies Nite Out Souvenir Drink Cup\n\n- 3 VIP drink tickets for use at VIP Food & Beverage Stations\n\n- Access to food and beverages at three VIP stations around the Square Reserved\n\n\n\nVIP Parking Option: $10\n\n- Reserved Parking Access at City Hall Public Parking Lot off Calhoun and Dean Street.\n\n** Must purchase a VIP ticket to purchase reserved parking option.\n\n\n\nReserved parking is located in the City Hall Public Parking lot at Dean Street and E. Calhoun. Have your ticket ready to show the parking attendant. \n\n\n\n5 PM check- in at the Woodstock Opera House for free tote bags while supplies last. \n\n\n\nVIP ticket holder Check-In is at Stage Left Cafe and begins at 5 PM.
X-ALT-DESC;FMTTYPE=text/html:<br />\n<span style="color: rgb(29\, 33\, 41)\; font-family: Helvetica\, Arial\, sans-serif\; font-size: 14px\; white-space: pre-wrap\; background-color: rgb(255\, 255\, 255)\;">Woodstock&#39\;s Ladies Nite Out is back for its&#39\; 16th consecutive year! 80&#39\;s Nite Ladies Nite is this year&#39\;s theme so pull out your leg warmers\, scrunchies\, and some Aqua Net to travel back to the 80&#39\;s with us! The fun starts at 5 PM Thursday\, December 5\, 2019. Stores close at 9PM but local bars will be open later if you aren?t quite ready to return to this decade! Take a well-deserved break from holiday planning and enjoy an evening out with the ladies you love spending time with! Create fond memories in downtown Woodstock because that&#39\;s what the season is really all about!</span><br style="color: rgb(29\, 33\, 41)\; font-family: Helvetica\, Arial\, sans-serif\; font-size: 14px\; white-space: pre-wrap\; background-color: rgb(255\, 255\, 255)\;" />\n<br style="color: rgb(29\, 33\, 41)\; font-family: Helvetica\, Arial\, sans-serif\; font-size: 14px\; white-space: pre-wrap\; background-color: rgb(255\, 255\, 255)\;" />\n<span style="color: rgb(29\, 33\, 41)\; font-family: Helvetica\, Arial\, sans-serif\; font-size: 14px\; white-space: pre-wrap\; background-color: rgb(255\, 255\, 255)\;">Our traditional Ladies Nite Out activities and giveaways are free to all while quantities last! Tote bags are back and available to the first 500 attendees and VIP ticket holders. This year you will find a handy coupon book inside each bag so you know where to do your shopping! Everyone who attends will be entered into a drawing to win a fabulous gift basket donated by Savior World ($250 Value). Increase your chance to win by purchasing more tickets at registration. You can register for the Ladies Nite VIP Experience with or without reserved parking again this year.</span><br style="color: rgb(29\, 33\, 41)\; font-family: Helvetica\, Arial\, sans-serif\; font-size: 14px\; white-space: pre-wrap\; background-color: rgb(255\, 255\, 255)\;" />\n<br style="color: rgb(29\, 33\, 41)\; font-family: Helvetica\, Arial\, sans-serif\; font-size: 14px\; white-space: pre-wrap\; background-color: rgb(255\, 255\, 255)\;" />\n<span style="color: rgb(29\, 33\, 41)\; font-family: Helvetica\, Arial\, sans-serif\; font-size: 14px\; white-space: pre-wrap\; background-color: rgb(255\, 255\, 255)\;">Don&#39\;t miss the 80&#39\;s themed photo booth at EmpowHer Boutique! Get your favorite ladies together for a fun group pic you can share for years to come!</span><br style="color: rgb(29\, 33\, 41)\; font-family: Helvetica\, Arial\, sans-serif\; font-size: 14px\; white-space: pre-wrap\; background-color: rgb(255\, 255\, 255)\;" />\n<br style="color: rgb(29\, 33\, 41)\; font-family: Helvetica\, Arial\, sans-serif\; font-size: 14px\; white-space: pre-wrap\; background-color: rgb(255\, 255\, 255)\;" />\n<span style="color: rgb(29\, 33\, 41)\; font-family: Helvetica\, Arial\, sans-serif\; font-size: 14px\; white-space: pre-wrap\; background-color: rgb(255\, 255\, 255)\;">Souvenir Ladies Nite Out Drink Cups will be available for purchase at Stage Left Cafe for $5.00. This cup allows you to Shop and Sip around the Square from 5-9pm. (Please note other containers are not allowed for open carry). With this cup you can go to any bar or restaurant to buy a drink and pour it in the cup to shop and sip. Alcohol must be kept within the perimeter of the Square as designated by vertical cones and signage prohibiting alcohol beyond those points.</span><br style="color: rgb(29\, 33\, 41)\; font-family: Helvetica\, Arial\, sans-serif\; font-size: 14px\; white-space: pre-wrap\; background-color: rgb(255\, 255\, 255)\;" />\n<br style="color: rgb(29\, 33\, 41)\; font-family: Helvetica\, Arial\, sans-serif\; font-size: 14px\; white-space: pre-wrap\; background-color: rgb(255\, 255\, 255)\;" />\n<span style="color: rgb(29\, 33\, 41)\; font-family: Helvetica\, Arial\, sans-serif\; font-size: 14px\; white-space: pre-wrap\; background-color: rgb(255\, 255\, 255)\;">This year&#39\;s VIP pass offers access to three VIP food and beverage stations around the Square for refueling during the night! These VIP stations will be located at EmpowHer Boutique\, Mixin Mingle and D&amp\;A Salon l Apothecary. Tasty morsels from The Public House of Woodstock\, Papa Murphy&#39\;s Pizza and another local restaurant will be served along with White Claws\, Red and White Wine and Blue Moon. VIP tickets are limited so purchase yours before they are gone!</span><br style="color: rgb(29\, 33\, 41)\; font-family: Helvetica\, Arial\, sans-serif\; font-size: 14px\; white-space: pre-wrap\; background-color: rgb(255\, 255\, 255)\;" />\n<br style="color: rgb(29\, 33\, 41)\; font-family: Helvetica\, Arial\, sans-serif\; font-size: 14px\; white-space: pre-wrap\; background-color: rgb(255\, 255\, 255)\;" />\n<span style="color: rgb(29\, 33\, 41)\; font-family: Helvetica\, Arial\, sans-serif\; font-size: 14px\; white-space: pre-wrap\; background-color: rgb(255\, 255\, 255)\;">VIP Pass\, $35 includes\;</span><br style="color: rgb(29\, 33\, 41)\; font-family: Helvetica\, Arial\, sans-serif\; font-size: 14px\; white-space: pre-wrap\; background-color: rgb(255\, 255\, 255)\;" />\n<span style="color: rgb(29\, 33\, 41)\; font-family: Helvetica\, Arial\, sans-serif\; font-size: 14px\; white-space: pre-wrap\; background-color: rgb(255\, 255\, 255)\;">- VIP Check-In</span><br style="color: rgb(29\, 33\, 41)\; font-family: Helvetica\, Arial\, sans-serif\; font-size: 14px\; white-space: pre-wrap\; background-color: rgb(255\, 255\, 255)\;" />\n<span style="color: rgb(29\, 33\, 41)\; font-family: Helvetica\, Arial\, sans-serif\; font-size: 14px\; white-space: pre-wrap\; background-color: rgb(255\, 255\, 255)\;">- VIP Lanyard</span><br style="color: rgb(29\, 33\, 41)\; font-family: Helvetica\, Arial\, sans-serif\; font-size: 14px\; white-space: pre-wrap\; background-color: rgb(255\, 255\, 255)\;" />\n<span style="color: rgb(29\, 33\, 41)\; font-family: Helvetica\, Arial\, sans-serif\; font-size: 14px\; white-space: pre-wrap\; background-color: rgb(255\, 255\, 255)\;">- Souvenir Tote with 80&#39\;s Swag and Coupon Book</span><br style="color: rgb(29\, 33\, 41)\; font-family: Helvetica\, Arial\, sans-serif\; font-size: 14px\; white-space: pre-wrap\; background-color: rgb(255\, 255\, 255)\;" />\n<span style="color: rgb(29\, 33\, 41)\; font-family: Helvetica\, Arial\, sans-serif\; font-size: 14px\; white-space: pre-wrap\; background-color: rgb(255\, 255\, 255)\;">- Wine Glass - Ladies Nite Out Souvenir Drink Cup</span><br style="color: rgb(29\, 33\, 41)\; font-family: Helvetica\, Arial\, sans-serif\; font-size: 14px\; white-space: pre-wrap\; background-color: rgb(255\, 255\, 255)\;" />\n<span style="color: rgb(29\, 33\, 41)\; font-family: Helvetica\, Arial\, sans-serif\; font-size: 14px\; white-space: pre-wrap\; background-color: rgb(255\, 255\, 255)\;">- 3 VIP drink tickets for use at VIP Food &amp\; Beverage Stations</span><br style="color: rgb(29\, 33\, 41)\; font-family: Helvetica\, Arial\, sans-serif\; font-size: 14px\; white-space: pre-wrap\; background-color: rgb(255\, 255\, 255)\;" />\n<span style="color: rgb(29\, 33\, 41)\; font-family: Helvetica\, Arial\, sans-serif\; font-size: 14px\; white-space: pre-wrap\; background-color: rgb(255\, 255\, 255)\;">- Access to food and beverages at three VIP stations around the Square Reserved</span><br style="color: rgb(29\, 33\, 41)\; font-family: Helvetica\, Arial\, sans-serif\; font-size: 14px\; white-space: pre-wrap\; background-color: rgb(255\, 255\, 255)\;" />\n<br style="color: rgb(29\, 33\, 41)\; font-family: Helvetica\, Arial\, sans-serif\; font-size: 14px\; white-space: pre-wrap\; background-color: rgb(255\, 255\, 255)\;" />\n<span style="color: rgb(29\, 33\, 41)\; font-family: Helvetica\, Arial\, sans-serif\; font-size: 14px\; white-space: pre-wrap\; background-color: rgb(255\, 255\, 255)\;">VIP Parking Option: $10</span><br style="color: rgb(29\, 33\, 41)\; font-family: Helvetica\, Arial\, sans-serif\; font-size: 14px\; white-space: pre-wrap\; background-color: rgb(255\, 255\, 255)\;" />\n<span style="color: rgb(29\, 33\, 41)\; font-family: Helvetica\, Arial\, sans-serif\; font-size: 14px\; white-space: pre-wrap\; background-color: rgb(255\, 255\, 255)\;">- Reserved Parking Access at City Hall Public Parking Lot off Calhoun and Dean Street.</span><br style="color: rgb(29\, 33\, 41)\; font-family: Helvetica\, Arial\, sans-serif\; font-size: 14px\; white-space: pre-wrap\; background-color: rgb(255\, 255\, 255)\;" />\n<span style="color: rgb(29\, 33\, 41)\; font-family: Helvetica\, Arial\, sans-serif\; font-size: 14px\; white-space: pre-wrap\; background-color: rgb(255\, 255\, 255)\;">** Must purchase a VIP ticket to purchase reserved parking option.</span><br style="color: rgb(29\, 33\, 41)\; font-family: Helvetica\, Arial\, sans-serif\; font-size: 14px\; white-space: pre-wrap\; background-color: rgb(255\, 255\, 255)\;" />\n<br style="color: rgb(29\, 33\, 41)\; font-family: Helvetica\, Arial\, sans-serif\; font-size: 14px\; white-space: pre-wrap\; background-color: rgb(255\, 255\, 255)\;" />\n<span style="color: rgb(29\, 33\, 41)\; font-family: Helvetica\, Arial\, sans-serif\; font-size: 14px\; white-space: pre-wrap\; background-color: rgb(255\, 255\, 255)\;">Reserved parking is located in the City Hall Public Parking lot at Dean Street and E. Calhoun. Have your ticket ready to show the parking attendant. </span><br style="color: rgb(29\, 33\, 41)\; font-family: Helvetica\, Arial\, sans-serif\; font-size: 14px\; white-space: pre-wrap\; background-color: rgb(255\, 255\, 255)\;" />\n<br style="color: rgb(29\, 33\, 41)\; font-family: Helvetica\, Arial\, sans-serif\; font-size: 14px\; white-space: pre-wrap\; background-color: rgb(255\, 255\, 255)\;" />\n<span style="color: rgb(29\, 33\, 41)\; font-family: Helvetica\, Arial\, sans-serif\; font-size: 14px\; white-space: pre-wrap\; background-color: rgb(255\, 255\, 255)\;">5 PM check- in at the Woodstock Opera House for free tote bags while supplies last. </span><br style="color: rgb(29\, 33\, 41)\; font-family: Helvetica\, Arial\, sans-serif\; font-size: 14px\; white-space: pre-wrap\; background-color: rgb(255\, 255\, 255)\;" />\n<br style="color: rgb(29\, 33\, 41)\; font-family: Helvetica\, Arial\, sans-serif\; font-size: 14px\; white-space: pre-wrap\; background-color: rgb(255\, 255\, 255)\;" />\n<span style="color: rgb(29\, 33\, 41)\; font-family: Helvetica\, Arial\, sans-serif\; font-size: 14px\; white-space: pre-wrap\; background-color: rgb(255\, 255\, 255)\;">VIP ticket holder Check-In is at Stage Left Cafe and begins at 5 PM. </span><span style="color: rgb(29\, 33\, 41)\; font-family: Helvetica\, Arial\, sans-serif\; font-size: 14px\; white-space: pre-wrap\; background-color: rgb(255\, 255\, 255)\;"> </span>
LOCATION:Historic Woodstock Square
UID:e.2851.9847
SEQUENCE:3
DTSTAMP:20260423T071408Z
URL:https://business.woodstockilchamber.com/events/details/2019-ladies-night-out-9847
END:VEVENT

END:VCALENDAR
