BEGIN:VCALENDAR
VERSION:2.0
PRODID:-//ChamberMaster//Event Calendar 2.0//EN
METHOD:PUBLISH
X-PUBLISHED-TTL:P3D
REFRESH-INTERVAL:P3D
CALSCALE:GREGORIAN
BEGIN:VEVENT
DTSTART:20191129T230000Z
DTEND:20191130T030000Z
X-MICROSOFT-CDO-ALLDAYEVENT:FALSE
SUMMARY:2019 Lighting of the Square
DESCRIPTION:Visit the beautiful and historic Square on the Friday after Thanksgiving and help the City of Woodstock usher in the official start to the holiday season.  With the flip of a switch\, tens of thousands of twinkling lights are illuminated on Park trees and Square buildings\, ushering in the magic of Christmas in a Victorian-era setting.\n\n\n\nThe lighting ceremony begins at 7:00 p.m. in the Park-in-the-Square.
X-ALT-DESC;FMTTYPE=text/html:<p 0px="" background-color:="" font-size:="" line-height:="" margin:="" open="" style="color: rgb(51\, 51\, 51)\; font-family: sans-serif\, Arial\, Verdana\, " trebuchet="">Visit the beautiful and historic Square on the Friday after Thanksgiving and help the City of Woodstock usher in the official start to the holiday season.&nbsp\; With the flip of a switch\, tens of thousands of twinkling lights are illuminated on Park trees and Square buildings\, ushering in the magic of Christmas in a Victorian-era setting.<br />\n<br />\nThe lighting ceremony begins at 7:00 p.m. in the Park-in-the-Square.</p>\n
LOCATION:Historic Woodstock Square
UID:e.2851.9842
SEQUENCE:3
DTSTAMP:20260423T071446Z
URL:https://business.woodstockilchamber.com/events/details/2019-lighting-of-the-square-9842
END:VEVENT

END:VCALENDAR
