BEGIN:VCALENDAR
VERSION:2.0
PRODID:-//ChamberMaster//Event Calendar 2.0//EN
METHOD:PUBLISH
X-PUBLISHED-TTL:P3D
REFRESH-INTERVAL:P3D
CALSCALE:GREGORIAN
BEGIN:VEVENT
DTSTART:20191010T223000Z
DTEND:20191011T013000Z
X-MICROSOFT-CDO-ALLDAYEVENT:FALSE
SUMMARY:2019 POURS With A PURPOSE
DESCRIPTION:A social experience supporting breast cancer \n\nprevention\, programs & services.
X-ALT-DESC;FMTTYPE=text/html:A social experience supporting breast cancer&nbsp\;<br />\nprevention\, programs &amp\; services.
LOCATION:Boulder Ridge Country Club 350 Boulder Drive Lake In The Hills\, IL
UID:e.2851.10237
SEQUENCE:3
DTSTAMP:20260423T102220Z
URL:https://business.woodstockilchamber.com/events/details/2019-pours-with-a-purpose-10237
END:VEVENT

END:VCALENDAR
