BEGIN:VCALENDAR
VERSION:2.0
PRODID:-//ChamberMaster//Event Calendar 2.0//EN
METHOD:PUBLISH
X-PUBLISHED-TTL:P3D
REFRESH-INTERVAL:P3D
CALSCALE:GREGORIAN
BEGIN:VEVENT
DTSTART:20191003T160000Z
DTEND:20191003T180000Z
X-MICROSOFT-CDO-ALLDAYEVENT:FALSE
SUMMARY:2019 State of the City Luncheon
DESCRIPTION:Join us for the Annual Woodstock State of the City Luncheon on Thursday October 3\, 2019 from 11AM to 1 PM at Woodstock Country Club! \n\n\n\nMayor Brian Sager will present the State of the City address followed by a Q&A from attendees.  This will be a casual "fire side chat" type of format again this year. \n\n\n\nLunch to be served:\n\nHouse Salad\, Chicken breast served with roasted potatoes\,\n\ngreen beans\, with a garlic cranberry sauce.  Dessert Table\n\n\n\nVegetarian option is available if requested by close of business Monday September 30\, 2019.\n\n\n\nCash bar will be available for beverages.
X-ALT-DESC;FMTTYPE=text/html:Join us for the Annual Woodstock State of the City Luncheon on Thursday October 3\, 2019 from 11AM to 1 PM at Woodstock Country Club!&nbsp\;<br />\n<br />\nMayor Brian Sager will present the State of the City address followed by a Q&amp\;A from attendees.&nbsp\; This will be a casual &quot\;fire side chat&quot\; type of format again this year.&nbsp\;<br />\n<br />\nLunch to be served:<br />\nHouse Salad\, Chicken breast served with roasted potatoes\,<br />\ngreen beans\,&nbsp\;with a garlic cranberry sauce.&nbsp\;&nbsp\;Dessert Table<br />\n<br />\nVegetarian option is available if requested by close of business Monday September 30\, 2019.<br />\n<br />\nCash bar will be available for beverages.
LOCATION:Woodstock Country Club 10310 Country Club Rd. Woodstock\, IL. 60098
UID:e.2851.10242
SEQUENCE:3
DTSTAMP:20260423T085900Z
URL:https://business.woodstockilchamber.com/events/details/2019-state-of-the-city-luncheon-10242
END:VEVENT

END:VCALENDAR
