BEGIN:VCALENDAR
VERSION:2.0
PRODID:-//ChamberMaster//Event Calendar 2.0//EN
METHOD:PUBLISH
X-PUBLISHED-TTL:P3D
REFRESH-INTERVAL:P3D
CALSCALE:GREGORIAN
BEGIN:VEVENT
DTSTART:20260127T230000Z
DTEND:20260128T003000Z
X-MICROSOFT-CDO-ALLDAYEVENT:FALSE
SUMMARY:2026 Woodstock Area Chamber of Commerce & Industry Annual General Meeting
DESCRIPTION:Join Us for the Chamber's Annual General Meeting\n\nYou're invited to the Woodstock Area Chamber of Commerce's Annual General Meeting! This important gathering will provide a look back at the highlights and achievements of 2025\, a preview of exciting plans for 2026\, and the official election of new board members.\nWhile we welcome business visitors and community members at many other events\, the Annual General Meeting is for Chamber Members only.
X-ALT-DESC;FMTTYPE=text/html:<p><strong>Join Us for the Chamber&#39\;s Annual General Meeting</strong></p>\n\n<p>You&#39\;re invited to the Woodstock Area Chamber of Commerce&#39\;s Annual General Meeting! This important gathering will provide a look back at the highlights and achievements of 2025\, a preview of exciting plans for 2026\, and the official election of new board members.</p>\n<strong>While we welcome business visitors and community members at many other events\, the Annual General Meeting is for Chamber Members only.</strong><br />\n<br />\n<br />\n&nbsp\;
LOCATION:Stage Left 125 W Van Buren St. Woodstock\, IL 60098
UID:e.2851.18114
SEQUENCE:3
DTSTAMP:20260420T204709Z
URL:https://business.woodstockilchamber.com/events/details/2026-woodstock-area-chamber-of-commerce-industry-annual-general-meeting-18114
END:VEVENT

END:VCALENDAR
