BEGIN:VCALENDAR
VERSION:2.0
PRODID:-//ChamberMaster//Event Calendar 2.0//EN
METHOD:PUBLISH
X-PUBLISHED-TTL:P3D
REFRESH-INTERVAL:P3D
CALSCALE:GREGORIAN
BEGIN:VEVENT
DTSTART:20190915T160000Z
DTEND:20190916T000000Z
X-MICROSOFT-CDO-ALLDAYEVENT:FALSE
SUMMARY:3rd Annual Mexican Independence Day
DESCRIPTION:Hispanic Connections is proud to announce that\n\ntheir 3rd annual Mexican Independence Day \n\nCelebration will be at the Woodstock Square this\n\nyear.  This event has attracted large crowds and has \n\nbeen featured as a nominee for the Woodstock\n\nChamber Event of the Year.  Do not miss this\n\noppurtunity to support the Hispanic community of \n\nMcHenry county.\n\n\n\nENTERTAINMENT:\n\nBallet Foklorico\, Mariachi\,\n\nTamborazo\, Banda\, Chinelos\n\n\n\nKIDS ACTIVITIES:\n\nFamily games & \n\nBounce houses\n\n\n\nFOOD & BEVERAGE:\n\nMexican Food and Drinks
X-ALT-DESC;FMTTYPE=text/html:Hispanic Connections is proud to announce that<br />\ntheir 3rd annual Mexican Independence Day&nbsp\;<br />\nCelebration will be at the Woodstock Square this<br />\nyear.&nbsp\; This event has attracted large crowds and has&nbsp\;<br />\nbeen featured as a nominee for the Woodstock<br />\nChamber Event of the Year.&nbsp\; Do not miss this<br />\noppurtunity to support the Hispanic community of&nbsp\;<br />\nMcHenry county.<br />\n<br />\nENTERTAINMENT:<br />\nBallet Foklorico\, Mariachi\,<br />\nTamborazo\, Banda\, Chinelos<br />\n<br />\nKIDS ACTIVITIES:<br />\nFamily games &amp\;&nbsp\;<br />\nBounce houses<br />\n<br />\nFOOD &amp\; BEVERAGE:<br />\nMexican Food and Drinks
LOCATION:Historic Woodstock Square
UID:e.2851.9840
SEQUENCE:3
DTSTAMP:20260423T104953Z
URL:https://business.woodstockilchamber.com/events/details/3rd-annual-mexican-independence-day-9840
END:VEVENT

END:VCALENDAR
