BEGIN:VCALENDAR
VERSION:2.0
PRODID:-//ChamberMaster//Event Calendar 2.0//EN
METHOD:PUBLISH
X-PUBLISHED-TTL:P3D
REFRESH-INTERVAL:P3D
CALSCALE:GREGORIAN
BEGIN:VEVENT
DTSTART:20200125T010000Z
DTEND:20200125T030000Z
X-MICROSOFT-CDO-ALLDAYEVENT:FALSE
SUMMARY:42nd Street - An Opera House Film Event
DESCRIPTION:One of Broadway's most classic and beloved tales\, 42nd Street\, comes to cinema screens in the largest-ever production of the breathtaking musical.  The musical\, set in 1933\, tells the story of Peggy Sawyer\, a talented young performer with stars in her eyes who gets her big break on Broadway.\n\nPeggy arrives to New York City from her hometown of Allentown\, Pennsylvania and her talent catches the eye of legendary Broadway director Julian Marsh. She gets a spot in the chorus of the musical-within-the-musical\, Pretty Lady. Dorothy Brock\, the classic Broadway diva and star of the show\, takes a dislike to the new girl. When Dorothy is injured\, Pretty Lady looks like it will have to close\, unless a new girl talented enough to lead the show can be found   someone like Peggy Sawyer!)\n\nFilmed in 2018 at London's Theatre Royal the production is directed by the original author of the show\, Mark Bramble. This eye-watering extravaganza is full of crowd-pleasing tap dances\, popular musical theatre standards ("Lullaby of Broadway"\, "We're in the Money (the gold digger's song)\, "42nd Street" and more)\, and show-stopping ensemble production numbers.\n\nDon't miss this Toe-Tapping Extravaganza!\n\nTICKETS: $18.00 Adult\, $15.00 Student/Senior\, $13.00 Groups (20 or more)\n\n*Subscription packages available
X-ALT-DESC;FMTTYPE=text/html:<p>One of Broadway&#39\;s most classic and beloved tales\, 42nd Street\, comes to cinema screens in the largest-ever production of the breathtaking musical.&nbsp\;&nbsp\;The musical\, set in 1933\, tells the story of Peggy Sawyer\, a talented young performer with stars in her eyes who gets her big break on Broadway.</p>\n\n<p>Peggy arrives to New York City from her hometown of Allentown\, Pennsylvania and her talent catches the eye of legendary Broadway director Julian Marsh. She gets a spot in the chorus of the musical-within-the-musical\, Pretty Lady. Dorothy Brock\, the classic Broadway diva and star of the show\, takes a dislike to the new girl. When Dorothy is injured\, Pretty Lady looks like it will have to close\, unless a new girl talented enough to lead the show can be found &mdash\; someone like Peggy Sawyer!)</p>\n\n<p>Filmed in 2018 at London&rsquo\;s Theatre Royal the production is directed by the original author of the show\, Mark Bramble. This eye-watering extravaganza is full of crowd-pleasing tap dances\, popular musical theatre standards (&ldquo\;Lullaby of Broadway&rdquo\;\, &ldquo\;We&rsquo\;re in the Money (the gold digger&rsquo\;s song)\, &ldquo\;42nd&nbsp\;Street&rdquo\; and more)\, and show-stopping ensemble production numbers.</p>\n\n<h3>Don&#39\;t miss this Toe-Tapping Extravaganza!</h3>\n\n<p><a href="https://www.ticketreturn.com/prod2/team.asp?SponsorID=12522#.XXqEEChKiUk">TICKETS:&nbsp\;$18.00 Adult\, $15.00 Student/Senior\, $13.00 Groups (20 or more)</a><br />\n<strong>*Subscription packages available</strong></p>\n
LOCATION:Woodstock Opera House 121 Van Buren Street Woodstock\, IL 60098
UID:e.2851.10491
SEQUENCE:3
DTSTAMP:20260423T053534Z
URL:https://business.woodstockilchamber.com/events/details/42nd-street-an-opera-house-film-event-10491
END:VEVENT

END:VCALENDAR
