BEGIN:VCALENDAR
VERSION:2.0
PRODID:-//ChamberMaster//Event Calendar 2.0//EN
METHOD:PUBLISH
X-PUBLISHED-TTL:P3D
REFRESH-INTERVAL:P3D
CALSCALE:GREGORIAN
BEGIN:VEVENT
DTSTART:20191208T020000Z
DTEND:20191208T040000Z
X-MICROSOFT-CDO-ALLDAYEVENT:FALSE
SUMMARY:A Christmas Carol
DESCRIPTION:Join Ebenezer Scrooge as he journeys through the Christmases of Past\, Present\, and Christmas Yet to Come with his Ghostly Guides. Let our merry Christmas carols\, enchanting children\, wonderful characters\, and colorful costumes welcome you into the Christmas season!\n\nPresented by Theatre 121
X-ALT-DESC;FMTTYPE=text/html:<p>Join Ebenezer Scrooge as he journeys through the Christmases of Past\, Present\, and Christmas Yet to Come with his Ghostly Guides. Let our merry Christmas carols\, enchanting children\, wonderful characters\, and colorful costumes welcome you into the Christmas season!</p>\n\n<p><strong>Presented by Theatre 121</strong></p>\n
LOCATION:Woodstock Opera House 121 Van Buren Street Woodstock\, IL 60098
UID:e.2851.10316
SEQUENCE:3
DTSTAMP:20260423T053213Z
URL:https://business.woodstockilchamber.com/events/details/a-christmas-carol-12-07-2019-10316
END:VEVENT

END:VCALENDAR
