BEGIN:VCALENDAR
VERSION:2.0
PRODID:-//ChamberMaster//Event Calendar 2.0//EN
METHOD:PUBLISH
X-PUBLISHED-TTL:P3D
REFRESH-INTERVAL:P3D
CALSCALE:GREGORIAN
BEGIN:VEVENT
DTSTART:20200328T003000Z
DTEND:20200328T043000Z
X-MICROSOFT-CDO-ALLDAYEVENT:FALSE
SUMMARY:A Night at the Opera - CANCELLED
DESCRIPTION:Join us for a rockin' evening of up and coming artists featuring the bands Jacky Legs\, Captain Coopersmith\, Alabaster\, and Rotten Mouth.\n\nTICKETS: $18.00 All Seats (Thru 2/16)  $23 All Seats (Thru 3/26) $28 (Day of the Show 3/27)\n\n \n\nAlabaster \n\nAlabaster is a jam band at their roots. They flaunt a style that is very passionate and energetic. Their emotions are poured into every lick and riff they play. Alabaster is not bound by genre but draws influence from Classic Rock\, Blues\, Psychedelic\, and Reggae to name a few. They have more of an old school approach\, like The Allman Brothers\, Led Zeppelin and others. Alabaster constantly challenges themselves to push their creativity and musicianship to a new level through improvisation and exploring their music and make sure the crowd really gets down.\n\nIn addition to being popular on the Regional Music Festival scene\, Alabaster has played many of the Chicagoland's best known Clubs and venues\, such as The Subterranean\, The Cubby Bear\, Mackey's Hideout and others. They are in demand for private events and have played at a Valslist party and on several college campuses\, such as Notre Dame\, Rutgers\, and others. They are a favorite in parades.\n\nAlabaster is assured to make any event a memorable time. \n\n \n\nRotten Mouth \n\nRotten Mouth is a 4-piece Dirty / Groove Rock band that guarantees to bring all of their jamtastic energy to every song they write and to every live performance. Through brain-liquefying guitar solos\, earth-rattling drum rolls\, and a deep\, gritty tone that will eternally shake your soul\, the band brings a unique twist to modern rock n' roll music. Through the use of powerful\, improvisational extended jamz\, their music transforms into an avalanche of sound and emotion\, and ensures that your body will undoubtedly feel like a wonderland.\n\n\n\nhttps://www.woodstockoperahouse.com/operahouse/page/night-opera
X-ALT-DESC;FMTTYPE=text/html:<p>Join us for a&nbsp\;rockin&#39\; evening of up and coming artists featuring the bands Jacky Legs\, Captain&nbsp\;Coopersmith\, Alabaster\, and Rotten Mouth.</p>\n\n<p>TICKETS: $18.00 All Seats (Thru 2/16)&nbsp\; $23 All Seats (Thru 3/26) $28 (Day of the Show 3/27)<br />\n&nbsp\;</p>\n\n<p><strong>Alabaster&nbsp\;</strong><br />\nAlabaster is a jam band at their roots. They flaunt a style that is very passionate and energetic. Their emotions are poured into every lick and riff they play. Alabaster is not bound by genre but draws influence from Classic Rock\, Blues\, Psychedelic\, and Reggae to name a few. They have more of an old school approach\, like The Allman Brothers\, Led Zeppelin and others. Alabaster constantly challenges themselves to push their creativity and musicianship to a new level through improvisation and exploring their music and make sure the crowd really gets down.</p>\n\n<p>In addition to being popular on the Regional Music Festival scene\, Alabaster has played many of the Chicagoland&#39\;s best known Clubs and venues\, such as The Subterranean\, The Cubby Bear\, Mackey&rsquo\;s Hideout and others. They are in demand for private events and have played at a Valslist party and on several college campuses\, such as Notre Dame\, Rutgers\, and others. They are a favorite in parades.</p>\n\n<p>Alabaster is assured to make any event a memorable time.&nbsp\;<br />\n&nbsp\;</p>\n\n<p><strong>Rotten Mouth&nbsp\;</strong><br />\nRotten Mouth is a 4-piece Dirty / Groove Rock band that guarantees to bring all of their jamtastic energy to every song they write and to every live performance. Through brain-liquefying guitar solos\, earth-rattling drum rolls\, and a deep\, gritty tone that will eternally shake your soul\, the band brings a unique twist to modern rock n&rsquo\; roll music. Through the use of powerful\, improvisational extended jamz\, their music transforms into an avalanche of sound and emotion\, and ensures that your body will undoubtedly feel like a wonderland.<br />\n<br />\n<a href="https://www.woodstockoperahouse.com/operahouse/page/night-opera">https://www.woodstockoperahouse.com/operahouse/page/night-opera</a></p>\n
LOCATION:Woodstock Opera House 121 Van Buren Street Woodstock\, IL 60098
UID:e.2851.11222
SEQUENCE:3
DTSTAMP:20260423T002434Z
URL:https://business.woodstockilchamber.com/events/details/a-night-at-the-opera-cancelled-11222
END:VEVENT

END:VCALENDAR
