BEGIN:VCALENDAR
VERSION:2.0
PRODID:-//ChamberMaster//Event Calendar 2.0//EN
METHOD:PUBLISH
X-PUBLISHED-TTL:P3D
REFRESH-INTERVAL:P3D
CALSCALE:GREGORIAN
BEGIN:VEVENT
DTSTART:20200218T000000Z
DTEND:20200218T004500Z
X-MICROSOFT-CDO-ALLDAYEVENT:FALSE
SUMMARY:AKC Star Puppy Class
DESCRIPTION:Alden's Kennels Presents AKC S.T.A.R. Puppy Program\n\nThe six week curriculum will cover theses points:\n\n\nWeek 1:\n\n  Crate training\n\n  Settle\n\n  controlled walking\n\nWeek 2:\n\n          Sit\n\n\n	\n	Bite inhibition\n	\n	\n	Leave it\n\n	Week 3:\n\n	  Down\n\n	  Dominance\n	\n\n\n  Spay & Neuter\n\nWeek 4:\n\n  Coming when called  Fears\n\n  Off\n\n  Quiet\n\nWeek 5:\n\n  Grooming\n\n  First Aid\n\nWeek 6:\n\n\n	\n	Obedience Demo\n	\n	\n	Graduation Games\n	\n\n\nYou'll attend any puppy or basic training class at least 6 weeks. Your instructor will administer the AKC S.T.A.R. Puppy test at the end of the course. Upon passing the test\, you'll get an application to send to AKC  for enrollment in the AKC S.T.A.R. Puppy Program. All dogs are welcome to participate in the AKC S.T.A.R. Puppy Program including purebreds and mixed breeds.
X-ALT-DESC;FMTTYPE=text/html:<div style="text-align:center"><strong><span style="color:rgb(20\, 24\, 35)\; font-family:helvetica\,arial\,sans-serif\; font-size:14px">Alden&rsquo\;s Kennels Presents AKC S.T.A.R. Puppy Program</span></strong></div>\n\n<div style="text-align:center"><span style="font-size:14px">The six week curriculum will cover theses points:</span></div>\n\n<div>\n<p><span style="font-size:12px"><span style="font-family:tahoma">Week 1:</span><br />\n<span style="font-family:symbolmt">&bull\;&nbsp\;</span><span style="font-family:tahoma">Crate training</span><br />\n<span style="font-family:symbolmt">&bull\;&nbsp\;</span><span style="font-family:tahoma">Settle</span><br />\n<span style="font-family:symbolmt">&bull\;&nbsp\;</span><span style="font-family:tahoma">controlled walking</span></span></p>\n\n<p><span style="font-size:12px"><span style="font-family:tahoma">Week 2:<br />\n&nbsp\; &nbsp\; &nbsp\; &nbsp\;&nbsp\;</span><span style="font-family:symbolmt">&bull\;&nbsp\;</span><span style="font-family:tahoma">Sit</span></span></p>\n\n<ul>\n	<li>\n	<p><span style="font-size:12px"><span style="font-family:tahoma">Bite inhibition</span></span></p>\n	</li>\n	<li>\n	<p><span style="font-size:12px"><span style="font-family:tahoma">Leave it</span></span></p>\n\n	<p><span style="font-size:12px"><span style="font-family:tahoma">Week 3:</span><br />\n	&bull\;&nbsp\;<span style="font-family:tahoma">Down</span></span></p>\n\n	<p><span style="font-size:12px">&bull\;&nbsp\;<span style="font-family:tahoma">Dominance</span></span></p>\n	</li>\n</ul>\n\n<p><span style="font-size:12px"><span style="font-family:symbolmt">&bull\;&nbsp\;</span><span style="font-family:tahoma">Spay &amp\; Neuter</span></span></p>\n\n<p><span style="font-size:12px"><span style="font-family:tahoma">Week 4:</span><br />\n<span style="font-family:symbolmt">&bull\;&nbsp\;</span><span style="font-family:tahoma">Coming when called</span><span style="font-family:symbolmt">&bull\;&nbsp\;</span><span style="font-family:tahoma">Fears</span><br />\n<span style="font-family:symbolmt">&bull\;&nbsp\;</span><span style="font-family:tahoma">Off</span><br />\n<span style="font-family:symbolmt">&bull\;&nbsp\;</span><span style="font-family:tahoma">Quiet</span></span></p>\n\n<p><span style="font-size:12px"><span style="font-family:tahoma">Week 5:</span><br />\n<span style="font-family:symbolmt">&bull\;&nbsp\;</span><span style="font-family:tahoma">Grooming</span></span></p>\n\n<p><span style="font-size:12px"><span style="font-family:symbolmt">&bull\;&nbsp\;</span><span style="font-family:tahoma">First Aid</span></span></p>\n\n<p><span style="font-size:12px"><span style="font-family:tahoma">Week 6:</span></span></p>\n\n<ul>\n	<li>\n	<p><span style="font-size:12px"><span style="font-family:tahoma">Obedience Demo</span></span></p>\n	</li>\n	<li>\n	<p><span style="font-size:12px"><span style="font-family:tahoma">Graduation Games</span></span></p>\n	</li>\n</ul>\n</div>\n<span style="font-size:12px"><span style="color:rgb(34\, 34\, 35)\; font-family:lato\,arial\,sans-serif">You&rsquo\;ll attend any puppy or basic training class at least 6 weeks. Your instructor will administer the AKC S.T.A.R. Puppy test at the end of the course. Upon passing the test\, you&rsquo\;ll get an application to send to AKC&reg\; for enrollment in the AKC S.T.A.R. Puppy Program. All dogs are welcome to participate in the AKC S.T.A.R. Puppy Program including purebreds and mixed breeds.</span></span>
LOCATION:Alden's Kennels 6810 Barnard Mill Rd Ringwood\, IL. 60072
UID:e.2851.9061
SEQUENCE:3
DTSTAMP:20260423T020347Z
URL:https://business.woodstockilchamber.com/events/details/akc-star-puppy-class-9061
END:VEVENT

END:VCALENDAR
