BEGIN:VCALENDAR
VERSION:2.0
PRODID:-//ChamberMaster//Event Calendar 2.0//EN
METHOD:PUBLISH
X-PUBLISHED-TTL:P3D
REFRESH-INTERVAL:P3D
CALSCALE:GREGORIAN
BEGIN:VEVENT
DTSTART:20200602T220000Z
DTEND:20200603T000000Z
X-MICROSOFT-CDO-ALLDAYEVENT:FALSE
SUMMARY:Alden's Kennels Multi-State Mixer Cancelled COVID-19 restrictions
DESCRIPTION:At Alden's Kennels we welcome all business owners or representatives to have a red carpet network event at our place\, with plenty of parking\, food and beverages\, and raffles. We belong to nine chambers and two visitor bureau's so you will have plenty of new people and some familiar friends to exchange business cards and find that power partner you have been waiting to connect with!
X-ALT-DESC;FMTTYPE=text/html:At Alden&#39\;s Kennels we welcome all business owners or representatives to have a red carpet network event at our place\, with plenty of parking\, food and beverages\, and raffles. We belong to nine chambers and two visitor bureau&#39\;s so you will have plenty of new people and some familiar friends to exchange business cards and find that power partner you have been waiting to connect with!
LOCATION:Alden's Kennels Inc. 6810 Barnard Mill Rd. Ringwood\, IL. 60072
UID:e.2851.4057
SEQUENCE:3
DTSTAMP:20260422T204629Z
URL:https://business.woodstockilchamber.com/events/details/alden-s-kennels-multi-state-mixer-06-05-2018-4057
END:VEVENT

END:VCALENDAR
