BEGIN:VCALENDAR
VERSION:2.0
PRODID:-//ChamberMaster//Event Calendar 2.0//EN
METHOD:PUBLISH
X-PUBLISHED-TTL:P3D
REFRESH-INTERVAL:P3D
CALSCALE:GREGORIAN
BEGIN:VEVENT
DTSTART:20190922T000000Z
DTEND:20190923T033000Z
X-MICROSOFT-CDO-ALLDAYEVENT:FALSE
SUMMARY:America's Heroes Pro Rodeo
DESCRIPTION:100% of profits go to the\n\nGary Sinise Foundation\n\n"Honoring our Defenders\,\n\nVeterans & First Responders"
X-ALT-DESC;FMTTYPE=text/html:100% of profits go to the<br />\nGary Sinise Foundation<br />\n&quot\;Honoring our Defenders\,<br />\nVeterans &amp\; First Responders&quot\;
LOCATION:McHenry Co Fairgrounds Country Club Rd. Woodstock\, IL
UID:e.2851.10272
SEQUENCE:3
DTSTAMP:20260423T105722Z
URL:https://business.woodstockilchamber.com/events/details/america-s-heroes-pro-rodeo-10272
END:VEVENT

END:VCALENDAR
