BEGIN:VCALENDAR
VERSION:2.0
PRODID:-//ChamberMaster//Event Calendar 2.0//EN
METHOD:PUBLISH
X-PUBLISHED-TTL:P3D
REFRESH-INTERVAL:P3D
CALSCALE:GREGORIAN
BEGIN:VEVENT
DTSTART:20210130T000000Z
DTEND:20210130T003000Z
X-MICROSOFT-CDO-ALLDAYEVENT:FALSE
SUMMARY:Awakening of the Groundhog
DESCRIPTION:Welcome Woodstock Willie\, the resident groundhog\,\n\nas he makes an appearance in front of the Woodstock\n\nOpera House to begin the Groundhog Day's Celebration.
X-ALT-DESC;FMTTYPE=text/html:Welcome Woodstock Willie\, the resident groundhog\,<br />\nas he makes an appearance in front of the Woodstock<br />\nOpera House to begin the Groundhog Day&#39\;s Celebration.
LOCATION:Woodstock Opera House 121 Van Buren St. Woodstock
UID:e.2851.12130
SEQUENCE:3
DTSTAMP:20260420T074505Z
URL:https://business.woodstockilchamber.com/events/details/awakening-of-the-groundhog-01-29-2021-12130
END:VEVENT

END:VCALENDAR
