BEGIN:VCALENDAR
VERSION:2.0
PRODID:-//ChamberMaster//Event Calendar 2.0//EN
METHOD:PUBLISH
X-PUBLISHED-TTL:P3D
REFRESH-INTERVAL:P3D
CALSCALE:GREGORIAN
BEGIN:VEVENT
DTSTART:20200615T230000Z
DTEND:20200616T004500Z
X-MICROSOFT-CDO-ALLDAYEVENT:FALSE
SUMMARY:Beginner Obedience Group Class
DESCRIPTION:Beginner Obedience Class one hour session\, meets once a week for 6 weeks.\n\nWe move as fast as the class can keep up\, hand signals as well as verbal commands.\n\nSit\, Down\, Stay\, Come\, Heel without pulling on the leash. Manners\, no jumping\, biting\, politely greeting dogs and people. No unnecessary barking\, One minute sit stay at the end of a six foot leash. Three minutes down stay at the end of a six foot leash.
X-ALT-DESC;FMTTYPE=text/html:Beginner Obedience Class one hour session\, meets once a week for 6 weeks.<br>\nWe move as fast as the class can keep up\, hand signals as well as verbal commands.<br>\nSit\, Down\, Stay\, Come\, Heel without pulling on the leash. Manners\, no jumping\, biting\, politely greeting dogs and people. No unnecessary barking\, One minute sit stay at the end of a six foot leash. Three minutes down stay at the end of a six foot leash.
LOCATION:Alden's Kennels Inc. 6810 Barnard Mill RD. Ringwood IL. 60072
UID:e.2851.6371
SEQUENCE:3
DTSTAMP:20260422T204254Z
URL:https://business.woodstockilchamber.com/events/details/beginner-obedience-group-class-6371
END:VEVENT

END:VCALENDAR
