BEGIN:VCALENDAR
VERSION:2.0
PRODID:-//ChamberMaster//Event Calendar 2.0//EN
METHOD:PUBLISH
X-PUBLISHED-TTL:P3D
REFRESH-INTERVAL:P3D
CALSCALE:GREGORIAN
BEGIN:VEVENT
DTSTART:20200828T000000Z
DTEND:20200828T020000Z
X-MICROSOFT-CDO-ALLDAYEVENT:FALSE
SUMMARY:Bernini - Great Art on Screen
DESCRIPTION:The selection of more than 60 masterpieces on display at the Villa Borghese in Rome has been defined by art experts as Bernini's return home. Five centuries have passed since the birth of the artist's magnificent sculptures and through exclusive\, never-before-seen footage\, the curators of this stunning exhibition uncover the details of these treasures\, on loan from the world's most prestigious museums for this extraordinary cinematic experience.\n\n"No artist defined 17th-century Rome more than Gian Lorenzo Bernini did\, working under nine popes and leaving an indelible mark on the Eternal City. And there is probably no better place to appreciate his talent and genius than the Borghese Gallery in Rome  But during the remarkable exhibition titled 'Bernini\,' visiting may be a once-in-a-lifetime experience." - The New York Times\n\nPresented by Woodstock Opera House in partnership with Woodstock Fine Arts Association
X-ALT-DESC;FMTTYPE=text/html:<p>The selection of more than 60 masterpieces on display at the Villa Borghese in Rome has been defined by art experts as Bernini&rsquo\;s return home. Five centuries have passed since the birth of the artist&rsquo\;s magnificent sculptures and through exclusive\, never-before-seen footage\, the curators of this stunning exhibition uncover the details of these treasures\, on loan from the world&rsquo\;s most prestigious museums for this extraordinary cinematic experience.</p>\n\n<p>&quot\;No artist defined&nbsp\;17th-century&nbsp\;Rome more than&nbsp\;Gian&nbsp\;Lorenzo Bernini did\, working under nine popes and leaving an indelible mark on the Eternal City. And there is probably no better place to appreciate his talent and genius than the Borghese Gallery in Rome&hellip\; But during the remarkable exhibition titled &#39\;Bernini\,&#39\; visiting may be a once-in-a-lifetime experience.&quot\; -&nbsp\;The New York Times</p>\n\n<p>Presented by Woodstock Opera House in partnership with Woodstock Fine Arts Association</p>\n
LOCATION:Woodstock Opera House 121 Van Buren Street Woodstock\, IL 60098
UID:e.2851.11264
SEQUENCE:3
DTSTAMP:20260422T172639Z
URL:https://business.woodstockilchamber.com/events/details/bernini-great-art-on-screen-11264
END:VEVENT

END:VCALENDAR
