BEGIN:VCALENDAR
VERSION:2.0
PRODID:-//ChamberMaster//Event Calendar 2.0//EN
METHOD:PUBLISH
X-PUBLISHED-TTL:P3D
REFRESH-INTERVAL:P3D
CALSCALE:GREGORIAN
BEGIN:VEVENT
DTSTART;VALUE=DATE:20200220
DTEND;VALUE=DATE:20200307
TRANSP:TRANSPARENT
X-MICROSOFT-CDO-ALLDAYEVENT:TRUE
SUMMARY:BHHS Starck Real Estate - ANNUAL DIAPER DRIVE!
DESCRIPTION:BERKSHIRE HATHAWAY Starck Real Estate is holding its' Annual Diaper Drive to benefit the Diaper Bank of Northern Illinois.  We will be collecting all brands/szes disposable diapers for both kids and adults.  The greatest need is typically for the larger sizes\, especially for adults.  Open and partial packages are accepted!!!  Of course\, monetary donations are also welcome.  Checks can be made payable to: Diaper Bank of Northern Illinois.\n\n\n\nDonations can be dropped at either of our Woodstock locations:\n\n112 Cass (on the Square) or 1710 S Eastwood (Rt. 47)\n\n\n\nWe THANK YOU in advance for your support of this worthy organization!
X-ALT-DESC;FMTTYPE=text/html:<span style="color:rgb(102\, 0\, 51)\; font-family:times new roman\; font-size:14px"><strong><span style="font-size:16px">BERKSHIRE HATHAWAY Starck Real Estate</span></strong></span><span style="font-family:times new roman\; font-size:14px">&nbsp\;is holding its&#39\;</span><span style="color:rgb(255\, 0\, 0)\; font-family:times new roman\; font-size:14px"><strong>&nbsp\;Annual Diaper Drive&nbsp\;</strong></span><span style="font-family:times new roman\; font-size:14px">to benefit the&nbsp\;</span><span style="font-family:times new roman\; font-size:16px"><strong><span style="color:rgb(255\, 0\, 0)">Diaper Bank of Northern Illinois</span></strong></span><span style="font-family:times new roman\; font-size:14px">.&nbsp\; We will be collecting all brands/szes disposable diapers for both kids and adults.&nbsp\; The greatest need is typically for the larger sizes\, especially for adults.&nbsp\;&nbsp\;</span><u>Open and partial packages are accepted!</u><span style="font-family:times new roman\; font-size:14px">!!&nbsp\; Of course\, monetary donations are also welcome.&nbsp\; Checks can be made payable to: Diaper Bank of Northern Illinois.</span><br />\n<br />\n<span style="font-family:times new roman\; font-size:14px">Donations can be dropped at either of our Woodstock locations:</span><br />\n<span style="font-family:times new roman\; font-size:14px">112 Cass (on the Square) or 1710 S Eastwood (Rt. 47)</span><br />\n<br />\n<span style="font-family:times new roman\; font-size:14px">We THANK YOU in advance for your support of this worthy organization!</span>
LOCATION:
UID:e.2851.11233
SEQUENCE:3
DTSTAMP:20260423T005145Z
URL:https://business.woodstockilchamber.com/events/details/bhhs-starck-real-estate-annual-diaper-drive-11233
END:VEVENT

END:VCALENDAR
