BEGIN:VCALENDAR
VERSION:2.0
PRODID:-//ChamberMaster//Event Calendar 2.0//EN
METHOD:PUBLISH
X-PUBLISHED-TTL:P3D
REFRESH-INTERVAL:P3D
CALSCALE:GREGORIAN
BEGIN:VEVENT
DTSTART:20260129T180000Z
DTEND:20260129T193000Z
X-MICROSOFT-CDO-ALLDAYEVENT:FALSE
SUMMARY:Bites & Business at Isabel's Family Restaurant
DESCRIPTION:Good food. Great connections.\n\nThursday\, January 29\n\n12:00 1:30 PM\n\nIsabel's Family Restaurant\n\n1110 N Seminary Ave\, Woodstock\, IL 60098\n\n\n\nBites & Business is a casual\, come-as-you-are networking lunch designed to make building relationships easy. There's no agenda and no pressure\, just good food\, great conversation\, and the chance to connect with fellow local business owners and professionals.\n\nGrab a seat\, order lunch\, and enjoy natural conversations in a relaxed setting. Whether you're new to the Chamber\, a longtime member\, or simply looking to expand your network\, Bites & Business offers a welcoming way to stay connected.\n\n  Open to members and non-members\n\n  Order and pay on your own\n\n  Come for the full lunch or stop by when you can\n\nHeld monthly\, Bites & Business is your go-to midday opportunity to connect\, catch up\, and build meaningful business relationships.
X-ALT-DESC;FMTTYPE=text/html:<p data-end="222" data-start="189"><strong data-end="222" data-start="189">Good food. Great connections.</strong></p>\n\n<p data-end="344" data-start="224"><strong data-end="248" data-start="224">Thursday\, January 29</strong><br data-end="251" data-start="248" />\n<strong data-end="268" data-start="251">12:00&ndash\;1:30 PM</strong><br data-end="271" data-start="268" />\n<strong data-end="301" data-start="271">Isabel&rsquo\;s Family Restaurant</strong><br data-end="304" data-start="301" />\n1110 N Seminary Ave\, Woodstock\, IL 60098<br />\n<br />\n<strong data-end="163" data-start="143">Bites &amp\; Business</strong> is a casual\, come-as-you-are networking lunch designed to make building relationships easy. There&rsquo\;s no agenda and no pressure\, just good food\, great conversation\, and the chance to connect with fellow local business owners and professionals.</p>\n\n<p data-end="644" data-start="406">Grab a seat\, order lunch\, and enjoy natural conversations in a relaxed setting. Whether you&rsquo\;re new to the Chamber\, a longtime member\, or simply looking to expand your network\, <strong data-end="602" data-start="582">Bites &amp\; Business</strong> offers a welcoming way to stay connected.</p>\n\n<p data-end="763" data-start="646">&#10004\; Open to members and non-members<br data-end="682" data-start="679" />\n&#10004\; Order and pay on your own<br data-end="712" data-start="709" />\n&#10004\; Come for the full lunch or stop by when you can</p>\n\n<p data-end="899" data-start="765">Held monthly\, <strong data-end="799" data-start="779">Bites &amp\; Business</strong> is your go-to midday opportunity to connect\, catch up\, and build meaningful business relationships.</p>\n
LOCATION:Isabel's Family Restaurant 1110 N Seminary Ave\, Woodstock\, IL 60098
UID:e.2851.18175
SEQUENCE:3
DTSTAMP:20260420T204658Z
URL:https://business.woodstockilchamber.com/events/details/bites-business-at-isabel-s-family-restaurant-18175
END:VEVENT

END:VCALENDAR
