BEGIN:VCALENDAR
VERSION:2.0
PRODID:-//ChamberMaster//Event Calendar 2.0//EN
METHOD:PUBLISH
X-PUBLISHED-TTL:P3D
REFRESH-INTERVAL:P3D
CALSCALE:GREGORIAN
BEGIN:VEVENT
DTSTART:20191029T150000Z
DTEND:20191029T193000Z
X-MICROSOFT-CDO-ALLDAYEVENT:FALSE
SUMMARY:Blood Drive
DESCRIPTION:Blood donors needed on key blood types.  Can you help\n\nand donate at our blood drive?\n\n\n\nWoodstock Chamber Community Blood Drive-\n\nHeld at the Woodstsock Opera House at 121 Van\n\nBuren St. in Woodstock - Community Center\n\n\n\nDrink plenty of fluids and eat a healthy meal\n\nprior to donating blood.  PHOTO ID REQUIRED.\n\n\n\nAppointments honored\, Walk-Ins Welcome!\n\n\n\nTo make your appointment\, please contact\n\nCarrie at (815) 271-2910
X-ALT-DESC;FMTTYPE=text/html:Blood donors needed on key blood types.&nbsp\; Can you help<br />\nand donate at our blood drive?<br />\n<br />\nWoodstock Chamber Community Blood Drive-<br />\nHeld at the Woodstsock Opera House at 121 Van<br />\nBuren St. in Woodstock - Community Center<br />\n<br />\nDrink plenty of fluids and eat a healthy meal<br />\nprior to donating blood.&nbsp\; PHOTO ID REQUIRED.<br />\n<br />\nAppointments honored\, Walk-Ins Welcome!<br />\n<br />\nTo make your appointment\, please contact<br />\nCarrie at (815) 271-2910
LOCATION:Woodstock Opera House - Community Center 121 Van Buren St. Woodstock\, IL
UID:e.2851.10403
SEQUENCE:3
DTSTAMP:20260423T090533Z
URL:https://business.woodstockilchamber.com/events/details/blood-drive-10-29-2019-10403
END:VEVENT

END:VCALENDAR
