BEGIN:VCALENDAR
VERSION:2.0
PRODID:-//ChamberMaster//Event Calendar 2.0//EN
METHOD:PUBLISH
X-PUBLISHED-TTL:P3D
REFRESH-INTERVAL:P3D
CALSCALE:GREGORIAN
BEGIN:VEVENT
DTSTART:20191006T180000Z
DTEND:20191006T190000Z
X-MICROSOFT-CDO-ALLDAYEVENT:FALSE
SUMMARY:Book Signing with Hope Mueller
DESCRIPTION:Join us for a book signing with Hope Mueller\, author of Hopey: From Commune to Corner Office! Hope will be discussing and signing her book.\n\n\n\nHopey chronicles the story of a courageous girl in a '70s Southern Indiana commune\, complete with flowers for dinner\, a ball of acid in the freezer\, and orgies on the living room floor. The chaos of her formative years\, which are littered with violent episodes\, periods of hunger and assaults\, leads Hope to set off on her own at the age of fifteen. Written as intense past moments\, reflective chapters\, and flash-forwards\, these three voices come together to transcend time and connect the past and the present. Honest and raw\, with no request for empathy or complaint\, the book is a celebration of the human spirit and an exhilarating read. Hopey is a reminder that we can love\, we can believe\, and we\, too\, can be successful beyond all expectations--if we only dare to hope.\n\n\n\nAbout Hope Mueller:\n\nHope Mueller is an author\, inspirational speaker\, executive\, and active non-for-profit volunteer. A results-driven leader and change agent\, Hope is passionate about career development and community service\, among others. Her early years were marked by the experiences on a hippie commune. Hope's unique childhood shaped her approach and interaction with the world\, with a gift of creating order out of chaos and turning vision into reality. She lives with her husband in northern Illinois and actively parents her four daughters through the phases of their lives.
X-ALT-DESC;FMTTYPE=text/html:Join us for a book signing with Hope Mueller\, author of <em>Hopey: From Commune to Corner Office</em>! Hope will be discussing and signing her book.<br />\n<br />\n<em>Hopey</em> chronicles the story of a courageous girl in a &#39\;70s Southern Indiana commune\, complete with flowers for dinner\, a ball of acid in the freezer\, and orgies on the living room floor. The chaos of her formative years\, which are littered with violent episodes\, periods of hunger and assaults\, leads Hope to set off on her own at the age of fifteen. Written as intense past moments\, reflective chapters\, and flash-forwards\, these three voices come together to transcend time and connect the past and the present. Honest and raw\, with no request for empathy or complaint\, the book is a celebration of the human spirit and an exhilarating read. <em>Hopey</em> is a reminder that we can love\, we can believe\, and we\, too\, can be successful beyond all expectations--if we only dare to hope.<br />\n<br />\nAbout Hope Mueller:<br />\nHope Mueller is an author\, inspirational speaker\, executive\, and active non-for-profit volunteer. A results-driven leader and change agent\, Hope is passionate about career development and community service\, among others. Her early years were marked by the experiences on a hippie commune. Hope&#39\;s unique childhood shaped her approach and interaction with the world\, with a gift of creating order out of chaos and turning vision into reality. She lives with her husband in northern Illinois and actively parents her four daughters through the phases of their lives.
LOCATION:Read Between the Lynes 111 E Van Buren St Woodstock\, IL 60098
UID:e.2851.10294
SEQUENCE:3
DTSTAMP:20260423T085210Z
URL:https://business.woodstockilchamber.com/events/details/book-signing-with-hope-mueller-10294
END:VEVENT

END:VCALENDAR
