BEGIN:VCALENDAR
VERSION:2.0
PRODID:-//ChamberMaster//Event Calendar 2.0//EN
METHOD:PUBLISH
X-PUBLISHED-TTL:P3D
REFRESH-INTERVAL:P3D
CALSCALE:GREGORIAN
BEGIN:VEVENT
DTSTART:20191220T010000Z
DTEND:20191220T030000Z
X-MICROSOFT-CDO-ALLDAYEVENT:FALSE
SUMMARY:Book Signing with Lisa Beard
DESCRIPTION:Join us for a book signing with Lisa Beard! She will be signing her newest book\, Abandoned Illinois: Forgotten Places and Lost Histories.
X-ALT-DESC;FMTTYPE=text/html:Join us for a book signing with Lisa Beard! She will be signing her newest book\, Abandoned Illinois: Forgotten Places and Lost Histories.
LOCATION:Read Between the Lynes 111 E Van Buren St Woodstock\, IL 60098
UID:e.2851.10502
SEQUENCE:3
DTSTAMP:20260423T053012Z
URL:https://business.woodstockilchamber.com/events/details/book-signing-with-lisa-beard-10502
END:VEVENT

END:VCALENDAR
