BEGIN:VCALENDAR
VERSION:2.0
PRODID:-//ChamberMaster//Event Calendar 2.0//EN
METHOD:PUBLISH
X-PUBLISHED-TTL:P3D
REFRESH-INTERVAL:P3D
CALSCALE:GREGORIAN
BEGIN:VEVENT
DTSTART:20191012T180000Z
DTEND:20191012T190000Z
X-MICROSOFT-CDO-ALLDAYEVENT:FALSE
SUMMARY:Book Signing with Shawn Tegtmeier
DESCRIPTION:Join us for a book signing with Shawn Tegtmeier\, author of Running with Walt: How a Chain-Smoking Couch Potato Got Off the Couch!\n\n\n\nHow does a woman go from thinking a breakfast of champions is a half a pack of cigarettes and a pot of black coffee to running two or three marathons and an ultra marathon in a year?\n\n\n\nWhen Shawn Tegtmeier was 36\, she realized she smelled like a dirty ashtray and was always fighting with her scale. She candidly shared her story of how she quit smoking and developed a love for running in her new book\, Running with Walt: How a Chain-smoking Couch Potato Got Off the Couch\, which quickly became an Amazon #1 New Release.\n\n\n\nTegtmeier was motivated to try running by Walt\, a parent on her sons' travel soccer team. She made it half a block before collapsing the first time she ran. But she kept going\, getting a little further every day. After running her first 5K race\, Tegtmeier went back to school and become a Certified Personal Trainer.\n\n\n\n"I wrote Running with Walt to inspire other couch potatoes that they are more capable than they ever thought possible\," Tegtmeier says. "I want to encourage anyone who has been afraid to try or thinks their dreams can't be reality. If this former couch potato can do it\, you can too!"\n\n\n\nAbout Shawn Tegtmeier:\n\nShawn lives in Crystal Lake with her husband\, Gary\, and their two shelter rescue dogs\, Roxy and Dexter. Their two grown sons\, Alex and Matt\, are two of her biggest supporters. She works full-time as a personal trainer and trains a variety of clients. In her spare time\, she goes to Wrigley Field as often as possible to see her beloved Cubs. She is currently writing her second book about how she continues to run while battling Multiple Myeloma.
X-ALT-DESC;FMTTYPE=text/html:Join us for a book signing with Shawn Tegtmeier\, author of Running with Walt: How a Chain-Smoking Couch Potato Got Off the Couch!<br />\n<br />\nHow does a woman go from thinking a breakfast of champions is a half a pack of cigarettes and a pot of black coffee to running two or three marathons and an ultra marathon in a year?<br />\n<br />\nWhen Shawn Tegtmeier was 36\, she realized she smelled like a dirty ashtray and was always fighting with her scale. She candidly shared her story of how she quit smoking and developed a love for running in her new book\, Running with Walt: How a Chain-smoking Couch Potato Got Off the Couch\, which quickly became an Amazon #1 New Release.<br />\n<br />\nTegtmeier was motivated to try running by Walt\, a parent on her sons&rsquo\; travel soccer team. She made it half a block before collapsing the first time she ran. But she kept going\, getting a little further every day. After running her first 5K race\, Tegtmeier went back to school and become a Certified Personal Trainer.<br />\n<br />\n&ldquo\;I wrote Running with Walt to inspire other couch potatoes that they are more capable than they ever thought possible\,&rdquo\; Tegtmeier says. &ldquo\;I want to encourage anyone who has been afraid to try or thinks their dreams can&rsquo\;t be reality. If this former couch potato can do it\, you can too!&rdquo\;<br />\n<br />\nAbout Shawn Tegtmeier:<br />\nShawn lives in Crystal Lake with her husband\, Gary\, and their two shelter rescue dogs\, Roxy and Dexter. Their two grown sons\, Alex and Matt\, are two of her biggest supporters. She works full-time as a personal trainer and trains a variety of clients. In her spare time\, she goes to Wrigley Field as often as possible to see her beloved Cubs. She is currently writing her second book about how she continues to run while battling Multiple Myeloma.
LOCATION:Read Between the Lynes 111 E Van Buren St Woodstock\, IL 60098
UID:e.2851.10324
SEQUENCE:3
DTSTAMP:20260423T102503Z
URL:https://business.woodstockilchamber.com/events/details/book-signing-with-shawn-tegtmeier-10324
END:VEVENT

END:VCALENDAR
