BEGIN:VCALENDAR
VERSION:2.0
PRODID:-//ChamberMaster//Event Calendar 2.0//EN
METHOD:PUBLISH
X-PUBLISHED-TTL:P3D
REFRESH-INTERVAL:P3D
CALSCALE:GREGORIAN
BEGIN:VEVENT
DTSTART;VALUE=DATE:20201009
DTEND;VALUE=DATE:20201019
TRANSP:TRANSPARENT
X-MICROSOFT-CDO-ALLDAYEVENT:TRUE
SUMMARY:Care4 Breast Cancer Virtual 5k
DESCRIPTION:The 20th anniversary of the Care4 Breast Cancer 5k will be virtual from October 9 - 18. Involvement can be as a registrant or by starting a team or by making a donation. The 5k supports local uninsured McHenry County patients at Family Health Partnership Clinic and all proceeds stay local. Patients who are in need of breast cancer screenings\, education and preventative care receive services at the clinic. The clinic is a 501c3 nonprofit healthcare clinic that has served uninsured people since 1996.\n\nThe virtual event can be done anyway (biking\, skipping\, running\, walking\, etc.) and anywhere (at home\, in a forest preserve\, or at a local park). Everyone will receive a t-shirt and a finishers medal and there is an online store for purchasing Care4 items at the race website\, wwww.care4breastcancer.org Participant fee is $35.00\, for kids 12 & under\, $15.00 and a unique Care4 Challenge is $50.00. First 500 participants will receive a free neck gaiter. To register or donate\, www.care4breastcancer.org For more information about Family Health Partnership Clinic see hpclinic.org
X-ALT-DESC;FMTTYPE=text/html:<p>The 20th anniversary of the Care4 Breast Cancer 5k will be virtual from October 9 - 18. Involvement can be as a registrant or by starting a team or by making a donation. The 5k supports local uninsured McHenry County patients at Family Health Partnership Clinic and all proceeds stay local. Patients who are in need of breast cancer screenings\, education and preventative care receive services at the clinic. The clinic is a 501c3 nonprofit healthcare clinic that has served uninsured people since 1996.</p>\n\n<p>The virtual event can be done anyway (biking\, skipping\, running\, walking\, etc.) and anywhere (at home\, in a forest preserve\, or at a local park). Everyone will receive a t-shirt and a finishers medal and there is an online store for purchasing Care4 items at the race website\, w<a href="http://www.care4breastcancer.org/" rel="nofollow" style="box-sizing: border-box\; background-color: transparent\; color: rgb(0\, 158\, 19)\; text-decoration-line: none\; cursor: pointer\; line-height: 26px\; margin: 20px 0px\;">www.care4breastcancer.org</a>&nbsp\;Participant fee is $35.00\, for kids 12 &amp\; under\, $15.00 and a unique Care4 Challenge is $50.00. First 500 participants will receive a free neck gaiter. To register or donate\,&nbsp\;<a href="http://www.care4breastcancer.org/" rel="nofollow" style="box-sizing: border-box\; background-color: transparent\; color: rgb(0\, 158\, 19)\; text-decoration-line: none\; cursor: pointer\; line-height: 26px\; margin: 20px 0px\;">www.care4breastcancer.org</a>&nbsp\;For more information about Family Health Partnership Clinic see hpclinic.org</p>\n
LOCATION:
UID:e.2851.12005
SEQUENCE:3
DTSTAMP:20260422T120409Z
URL:https://business.woodstockilchamber.com/events/details/care4-breast-cancer-virtual-5k-12005
END:VEVENT

END:VCALENDAR
