BEGIN:VCALENDAR
VERSION:2.0
PRODID:-//ChamberMaster//Event Calendar 2.0//EN
METHOD:PUBLISH
X-PUBLISHED-TTL:P3D
REFRESH-INTERVAL:P3D
CALSCALE:GREGORIAN
BEGIN:VEVENT
DTSTART:20260221T150000Z
DTEND:20260221T233000Z
X-MICROSOFT-CDO-ALLDAYEVENT:FALSE
SUMMARY:Chick-Fil-A Ribbon Cutting
DESCRIPTION:Join us as we celebrate the Grand Reopening of Chick-fil-A Crystal Lake with a Ribbon Cutting Ceremony on Saturday\, February 21\, 2026!\n\n  4812 Northwest Hwy\, Crystal Lake\, IL\n\n  Ribbon Cutting: 9:00 9:30 AM\n\n  Grand Reopening Celebration: 9:00 AM 5:00 PM\n\nThe official ribbon cutting will take place at 9:00 AM\, followed by a full day of family-friendly fun and special activities. Guests can enjoy opportunities to win FREE Chick-fil-A for a year\, meet the Chick-fil-A Cow\, face painting\, balloon twisting\, free ice cream\, and more.\n\nDress like a cow during the event and receive a free Chick-fil-A item (see store for details).\n\nHelp us welcome one of our newest Chamber members and celebrate their exciting new chapter. We hope to see you there!
X-ALT-DESC;FMTTYPE=text/html:<p data-end="214" data-start="72">Join us as we celebrate the <strong data-end="147" data-start="100">Grand Reopening of Chick-fil-A Crystal Lake</strong> with a Ribbon Cutting Ceremony on <strong data-end="213" data-start="182">Saturday\, February 21\, 2026</strong>!</p>\n\n<p data-end="340" data-start="216">&#128205\; 4812 Northwest Hwy\, Crystal Lake\, IL<br data-end="258" data-start="255" />\n&#9200\; Ribbon Cutting: 9:00&ndash\;9:30 AM<br data-end="291" data-start="288" />\n&#127881\; Grand Reopening Celebration: 9:00 AM&ndash\;5:00 PM</p>\n\n<p data-end="623" data-start="342">The official ribbon cutting will take place at 9:00 AM\, followed by a full day of family-friendly fun and special activities. Guests can enjoy opportunities to win <strong data-end="537" data-start="506">FREE Chick-fil-A for a year</strong>\, meet the Chick-fil-A Cow\, face painting\, balloon twisting\, free ice cream\, and more.</p>\n\n<p data-end="719" data-start="625">Dress like a cow during the event and receive a free Chick-fil-A item (see store for details).</p>\n\n<p data-end="838" data-is-last-node="" data-is-only-node="" data-start="721">Help us welcome one of our newest Chamber members and celebrate their exciting new chapter. We hope to see you there!</p>\n
LOCATION:4812 Northwest Hwy\, Crystal Lake\, IL
UID:e.2851.18281
SEQUENCE:3
DTSTAMP:20260420T184559Z
URL:https://business.woodstockilchamber.com/events/details/chick-fil-a-ribbon-cutting-18281
END:VEVENT

END:VCALENDAR
