BEGIN:VCALENDAR
VERSION:2.0
PRODID:-//ChamberMaster//Event Calendar 2.0//EN
METHOD:PUBLISH
X-PUBLISHED-TTL:P3D
REFRESH-INTERVAL:P3D
CALSCALE:GREGORIAN
BEGIN:VEVENT
DTSTART:20191208T163000Z
DTEND:20191208T174500Z
X-MICROSOFT-CDO-ALLDAYEVENT:FALSE
SUMMARY:Christmas Carol Service
DESCRIPTION:Do you enjoy singing Christmas carols? \n\nJoin us on Sunday\, December 8th at 10:30 a.m.\n\nas we worship and sing praises to our Lord\n\nat our Christmas Carol Worship Service. \n\nFree Methodist Church\n\n934 N. Seminary Ave.
X-ALT-DESC;FMTTYPE=text/html:<div style="text-align: center\;"><strong>Do you enjoy singing Christmas carols?&nbsp\;</strong><br />\nJoin us on Sunday\, December 8th at 10:30 a.m.<br />\nas we worship and sing praises to our Lord<br />\nat our <strong>Christmas Carol Worship Service</strong>.&nbsp\;<br />\nFree Methodist Church<br />\n934 N. Seminary Ave.</div>\n
LOCATION:Woodstock Free Methodist Church 934 N. Seminary Ave. Woodstock\, IL 60098
UID:e.2851.10487
SEQUENCE:3
DTSTAMP:20260423T053012Z
URL:https://business.woodstockilchamber.com/events/details/christmas-carol-service-10487
END:VEVENT

END:VCALENDAR
