BEGIN:VCALENDAR
VERSION:2.0
PRODID:-//ChamberMaster//Event Calendar 2.0//EN
METHOD:PUBLISH
X-PUBLISHED-TTL:P3D
REFRESH-INTERVAL:P3D
CALSCALE:GREGORIAN
BEGIN:VEVENT
DTSTART:20191224T220000Z
DTEND:20191224T230000Z
X-MICROSOFT-CDO-ALLDAYEVENT:FALSE
SUMMARY:Christmas Eve Candlelight Communion Service
DESCRIPTION:Join us for our\n\nChristmas Eve Candlelight Communion Service\n\nDecember 24th\, at 4:00 p.m.\n\nWoodstock Free Methodist Church\n\n934 N. Seminary Ave.
X-ALT-DESC;FMTTYPE=text/html:<div style="text-align: center\;"><strong>Join us for our</strong><br />\n<span style="font-size:14px"><span style="font-family:comic sans ms"><strong>Christmas Eve Candlelight Communion Service</strong></span></span><br />\n<strong><span style="font-family:comic sans ms">December 24th\, at 4:00 p.m.</span></strong><br />\n<strong>Woodstock Free Methodist Church<br />\n934 N. Seminary Ave.</strong></div>\n
LOCATION:Woodstock Free Methodist Church 934 N. Seminary Ave. Woodstock\, IL
UID:e.2851.10488
SEQUENCE:3
DTSTAMP:20260423T053309Z
URL:https://business.woodstockilchamber.com/events/details/christmas-eve-candlelight-communion-service-10488
END:VEVENT

END:VCALENDAR
