BEGIN:VCALENDAR
VERSION:2.0
PRODID:-//ChamberMaster//Event Calendar 2.0//EN
METHOD:PUBLISH
X-PUBLISHED-TTL:P3D
REFRESH-INTERVAL:P3D
CALSCALE:GREGORIAN
BEGIN:VEVENT
DTSTART:20191221T163000Z
DTEND:20191221T170000Z
X-MICROSOFT-CDO-ALLDAYEVENT:FALSE
SUMMARY:Christmas-y Story Time
DESCRIPTION:Join us for a Christmas-y Story Time featuring favorite local storyteller Aunt Holly on Saturday\, December 21st at 10:30am! Aunt Holly used to read Christmas stories at the Opera House for many years\, and we are thrilled to have her back!
X-ALT-DESC;FMTTYPE=text/html:<span style="color:rgb(47\, 54\, 56)\; font-family:open sans\,helvetica neue\,helvetica\,arial\; font-size:14px">Join us for a Christmas-y Story Time featuring favorite local storyteller Aunt Holly on Saturday\, December 21st at 10:30am! Aunt Holly used to read Christmas stories at the Opera House for many years\, and we are thrilled to have her back!</span>
LOCATION:Read Between the Lynes 111 E Van Buren St Woodstock\, IL 60098
UID:e.2851.10503
SEQUENCE:3
DTSTAMP:20260423T053213Z
URL:https://business.woodstockilchamber.com/events/details/christmas-y-story-time-10503
END:VEVENT

END:VCALENDAR
