BEGIN:VCALENDAR
VERSION:2.0
PRODID:-//ChamberMaster//Event Calendar 2.0//EN
METHOD:PUBLISH
X-PUBLISHED-TTL:P3D
REFRESH-INTERVAL:P3D
CALSCALE:GREGORIAN
BEGIN:VEVENT
DTSTART:20191109T020000Z
DTEND:20191109T040000Z
X-MICROSOFT-CDO-ALLDAYEVENT:FALSE
SUMMARY:Comedy Dance Chicago
DESCRIPTION:SKETCH COMEDY + DANCE = US!\n\nA group of current\, former\, and almost dancers who combine sketch comedy\, physical comedy\, and dance to tell stories in feel-good and visually-hilarious ways!\n\n \n\nTICKETS: $23.00 All Seats
X-ALT-DESC;FMTTYPE=text/html:<h3>SKETCH COMEDY + DANCE = US!</h3>\n\n<p>A group of current\, former\, and almost dancers who combine sketch comedy\, physical comedy\, and dance to tell stories in feel-good and visually-hilarious ways!</p>\n\n<p>&nbsp\;</p>\n\n<p><a href="https://www.ticketreturn.com/prod2/Buy.asp?EventID=286335#.XVXvmehKiUl">TICKETS:&nbsp\;$23.00 All Seats</a></p>\n
LOCATION:Woodstock Opera House 121 Van Buren Street Woodstock\, IL 60098
UID:e.2851.10292
SEQUENCE:3
DTSTAMP:20260423T071138Z
URL:https://business.woodstockilchamber.com/events/details/comedy-dance-chicago-10292
END:VEVENT

END:VCALENDAR
