BEGIN:VCALENDAR
VERSION:2.0
PRODID:-//ChamberMaster//Event Calendar 2.0//EN
METHOD:PUBLISH
X-PUBLISHED-TTL:P3D
REFRESH-INTERVAL:P3D
CALSCALE:GREGORIAN
BEGIN:VEVENT
DTSTART:20190908T010000Z
DTEND:20190908T030000Z
X-MICROSOFT-CDO-ALLDAYEVENT:FALSE
SUMMARY:Dancing Queen - Formerly known as ABBA SALUTE
DESCRIPTION:Dancing Queen: An ABBA Salute is back to the Woodstock Opera House for an evening of all your favorite ABBA hits\, bigger and brighter than ever before!!!\n\nFrom Mamma Mia to Waterloo to Take a Chance on Me to Voulez-Vous - are you ready\, you Dancing Queens and Super Troupers? Because we have you covered! Join us for an ABBASalutely rockin' time!
X-ALT-DESC;FMTTYPE=text/html:<p>Dancing Queen: An ABBA Salute is back to the Woodstock Opera House for an evening of all your favorite ABBA hits\, bigger and brighter than ever before!!!</p>\n\n<p>From Mamma Mia to Waterloo to Take a Chance on Me to Voulez-Vous - are you ready\, you Dancing Queens and Super Troupers? Because we have you covered! Join us for an ABBASalutely rockin&#39\; time!&nbsp\;</p>\n
LOCATION:Woodstock Opera House 121 W Van Buren St Woodstock IL 60098
UID:e.2851.10246
SEQUENCE:3
DTSTAMP:20260423T105025Z
URL:https://business.woodstockilchamber.com/events/details/dancing-queen-formerly-known-as-abba-salute-10246
END:VEVENT

END:VCALENDAR
