BEGIN:VCALENDAR
VERSION:2.0
PRODID:-//ChamberMaster//Event Calendar 2.0//EN
METHOD:PUBLISH
X-PUBLISHED-TTL:P3D
REFRESH-INTERVAL:P3D
CALSCALE:GREGORIAN
BEGIN:VEVENT
DTSTART:20190922T000000Z
DTEND:20190922T020000Z
X-MICROSOFT-CDO-ALLDAYEVENT:FALSE
SUMMARY:Dancing With The Courthouse Stars!
DESCRIPTION:This is a fundraising event to help\n\nrestore McHenry County's Old \n\nCourthouse and Sheriff's House.\n\nVote online with your donations at\n\nwww.FriendsOfTheOldCourthouse.org\n\nuntil 9/18/19.  Audience votes with their dollars\n\non 9/21/19\; cash\, check\, and credit cards accepted!
X-ALT-DESC;FMTTYPE=text/html:This is a fundraising event to help<br />\nrestore McHenry County&#39\;s Old&nbsp\;<br />\nCourthouse and Sheriff&#39\;s House.<br />\nVote online with your donations at<br />\nwww.FriendsOfTheOldCourthouse.org<br />\nuntil 9/18/19.&nbsp\; Audience votes with their dollars<br />\non 9/21/19\; cash\, check\, and credit cards accepted!
LOCATION:Woodstock Opera House 121 Van Buren St. Woodstock\, IL 60098
UID:e.2851.10216
SEQUENCE:3
DTSTAMP:20260423T105019Z
URL:https://business.woodstockilchamber.com/events/details/dancing-with-the-courthouse-stars-10216
END:VEVENT

END:VCALENDAR
