BEGIN:VCALENDAR
VERSION:2.0
PRODID:-//ChamberMaster//Event Calendar 2.0//EN
METHOD:PUBLISH
X-PUBLISHED-TTL:P3D
REFRESH-INTERVAL:P3D
CALSCALE:GREGORIAN
BEGIN:VEVENT
DTSTART:20200215T020000Z
DTEND:20200215T040000Z
X-MICROSOFT-CDO-ALLDAYEVENT:FALSE
SUMMARY:Dave Halston's Valentine Tribute to SINATRA
DESCRIPTION:Featuring Dave's Little BIG BAND Live\n\nThe Woodstock Opera House is pleased to welcome back a tribute to one of the most celebrated voices of our time\, Frank Sinatra\, and no one is better suited to bring the essence of Ol' Blue Eyes back to the stage than the extraordinary Dave Halston.  Critics have raved about Halston's tribute to the iconic Sinatra\, calling it "stunning" and "spot-on". Halston creates a brilliant interpretation of the iconic Chairman of the Board.\n\nHalston has impressed more than a few Sinatra fans. After seeing Dave perform\, Frank's widow\, Barbara Sinatra\, called his performance "Wonderful!".  Like Sinatra\, Dave's natural charm and charisma is genuine while sporting a familiar swagger and delivering that smooth ribbon of sound. Halston does something few performers are capable of doing   a tribute to "Frank" that is patently authentic!
X-ALT-DESC;FMTTYPE=text/html:<h2>Featuring Dave&#39\;s Little BIG BAND Live</h2>\n\n<p>The Woodstock Opera House is pleased to welcome back a tribute to one of the most celebrated voices of our time\, Frank Sinatra\,&nbsp\;and no one is better suited to bring the essence of Ol&#39\; Blue Eyes back to the stage than the extraordinary Dave Halston.&nbsp\; Critics have raved about Halston&#39\;s tribute to the iconic Sinatra\, calling it &quot\;stunning&quot\; and &quot\;spot-on&quot\;. Halston creates a brilliant interpretation of the iconic Chairman of the Board.</p>\n\n<p>Halston has impressed more than a few Sinatra fans. After seeing Dave perform\, Frank&#39\;s widow\, Barbara Sinatra\, called his performance &quot\;Wonderful!&rdquo\;. &nbsp\;Like Sinatra\, Dave&#39\;s natural charm and charisma is genuine while sporting a familiar swagger and delivering that smooth ribbon of sound. Halston does something few performers are capable of doing &ndash\; a tribute to &quot\;Frank&quot\; that is patently authentic!</p>\n
LOCATION:Woodstock Opera House 121 Van Buren Street Woodstock\, IL 60098
UID:e.2851.10670
SEQUENCE:3
DTSTAMP:20260423T022502Z
URL:https://business.woodstockilchamber.com/events/details/dave-halston-s-valentine-tribute-to-sinatra-02-14-2020-10670
END:VEVENT

END:VCALENDAR
