BEGIN:VCALENDAR
VERSION:2.0
PRODID:-//ChamberMaster//Event Calendar 2.0//EN
METHOD:PUBLISH
X-PUBLISHED-TTL:P3D
REFRESH-INTERVAL:P3D
CALSCALE:GREGORIAN
BEGIN:VEVENT
DTSTART;VALUE=DATE:20200201
DTEND;VALUE=DATE:20200302
TRANSP:TRANSPARENT
X-MICROSOFT-CDO-ALLDAYEVENT:TRUE
SUMMARY:DIAPER DRIVE to benefit the Diaper Bank of Northern Illinois
DESCRIPTION:February is our annual DIAPER DRIVE to benefit the Diaper Bank of Northern Illinois.  We are accepting children and ADULT diapers\, all sizes\, open and partial packages are accepted!!  The greatest needs seems to always be for larger kids and adult diapers.  Donations can be dropped off at the BERKSHIRE HATHAWAY Starck Real Estate offices located at 112 Cass or 1710 S. Eastwood Drive\, both in Woodstock.  Monetary donations can be made payable to: Diaper Bank of Northern Illinois.
X-ALT-DESC;FMTTYPE=text/html:<span style="font-size:16px"><span style="font-family:times new roman">February is our annual <strong>DIAPER DRIVE</strong> to benefit the <strong>Diaper Bank of Northern Illinois</strong>.&nbsp\; We are accepting children and <strong>ADULT </strong>diapers\, all sizes\, <strong>open </strong>and <strong>partial packages are accepted</strong>!!&nbsp\; The greatest needs seems to always be for larger kids and&nbsp\;<strong>adult</strong>&nbsp\;diapers.&nbsp\; Donations can be dropped off at the <span style="color:#660033"><strong>BERKSHIRE HATHAWAY Starck Real Estate</strong></span> offices located at 112 Cass or 1710 S. Eastwood Drive\, both in Woodstock.&nbsp\; Monetary donations can be made payable to: Diaper Bank of Northern Illinois.</span></span>
LOCATION:
UID:e.2851.11232
SEQUENCE:3
DTSTAMP:20260423T002232Z
URL:https://business.woodstockilchamber.com/events/details/diaper-drive-to-benefit-the-diaper-bank-of-northern-illinois-11232
END:VEVENT

END:VCALENDAR
