BEGIN:VCALENDAR
VERSION:2.0
PRODID:-//ChamberMaster//Event Calendar 2.0//EN
METHOD:PUBLISH
X-PUBLISHED-TTL:P3D
REFRESH-INTERVAL:P3D
CALSCALE:GREGORIAN
BEGIN:VEVENT
DTSTART:20200314T160000Z
DTEND:20200314T173000Z
X-MICROSOFT-CDO-ALLDAYEVENT:FALSE
SUMMARY:Dog Yoga at Young at Heart
DESCRIPTION:Join us for an exclusive one-hour yoga class with Young at Heart's senior dogs followed by a 30 minute social with the animals. Experience relaxing\, gentle movements combined with breathing and posture exercises. No yoga experience needed! Bring a mat or a towel. Ticket required. http://srpets.co/dogyoga $45/person
X-ALT-DESC;FMTTYPE=text/html:<span style="color:rgb(29\, 33\, 41)\; font-family:system-ui\,-apple-system\,blinkmacsystemfont\,.sfnstext-regular\,sans-serif\; font-size:14px">Join us for an exclusive one-hour yoga class with Young at Heart&#39\;s senior dogs followed by a 30 minute social with the animals. Experience relaxing\, gentle movements combined with breathing and posture exercises. No yoga experience needed! Bring a mat or a towel. Ticket required. </span><a href="https://l.facebook.com/l.php?u=http%3A%2F%2Fsrpets.co%2Fdogyoga%3Ffbclid%3DIwAR3V2Hcje4jz5kwd8GuCCfRMJmHvtfP91PGbxxhVs1rDgdwtZrYGQFkcjug&amp\;h=AT0-gq6rFycFsVSFV6PhlMMfCVCqGpDRtoMqOpTxqp1pZT3sotO3Ja0jGEO2DetcnWDpQxwK8d2VJ0S66r1qbtCKgZRqeIX-bOt0EDAFy8u9AKnNNK82OuirwaJX-wy20GUd_K8" rel="nofollow noopener" style="color: rgb(56\, 88\, 152)\; cursor: pointer\; text-decoration: none\; font-family: system-ui\, -apple-system\, BlinkMacSystemFont\, &quot\;.SFNSText-Regular&quot\;\, sans-serif\; font-size: 14px\; white-space: pre-wrap\;" target="_blank">http://srpets.co/dogyoga</a><span style="color:rgb(29\, 33\, 41)\; font-family:system-ui\,-apple-system\,blinkmacsystemfont\,.sfnstext-regular\,sans-serif\; font-size:14px"> $45/person</span>
LOCATION:Young at Heart 4301 S. IL Route 47 Woodstock\, IL 60098
UID:e.2851.11255
SEQUENCE:3
DTSTAMP:20260423T002819Z
URL:https://business.woodstockilchamber.com/events/details/dog-yoga-at-young-at-heart-11255
END:VEVENT

END:VCALENDAR
