BEGIN:VCALENDAR
VERSION:2.0
PRODID:-//ChamberMaster//Event Calendar 2.0//EN
METHOD:PUBLISH
X-PUBLISHED-TTL:P3D
REFRESH-INTERVAL:P3D
CALSCALE:GREGORIAN
BEGIN:VEVENT
DTSTART:20191026T010000Z
DTEND:20191026T030000Z
X-MICROSOFT-CDO-ALLDAYEVENT:FALSE
SUMMARY:DRACULA - with Storyteller Megan Wells
DESCRIPTION:Experience the emotional thrill of Bram Stoker's gothic masterpiece in this elegantly horrific one-woman show by Megan Wells (resident Storyteller - Chicago Symphony Orchestra\, Joseph Jefferson Award - Chicago Theater). With depth and charisma Megan brings the Monster to life as you have never experienced him before.\n\n"Bram Stoker's adrenaline-laced\, dark and thrilling ride portrays Mina Harker as heroine rather than a victim. Mina understands we are\, each of us\, one bite away from the Vampire Hunger." --Megan Wells\n\n\n\n(This program is recommended for Adults and Young Adults)\n\nPresented by Jim May
X-ALT-DESC;FMTTYPE=text/html:<p>Experience the emotional thrill of Bram Stoker&rsquo\;s gothic masterpiece in this elegantly horrific one-woman show by Megan Wells (resident Storyteller - Chicago Symphony Orchestra\, Joseph Jefferson Award - Chicago Theater). With depth and charisma Megan brings the Monster to life as you have never experienced him before.</p>\n\n<p>&ldquo\;Bram Stoker&rsquo\;s adrenaline-laced\, dark and thrilling ride portrays Mina Harker as heroine rather than a victim. Mina understands we are\, each of us\, one bite away from the Vampire Hunger.&rdquo\; --Megan Wells<br />\n<br />\n<span style="background-color:rgb(255\, 255\, 255)\; font-family:raleway\,sans-serif\; font-size:15px">(This program is recommended for Adults and Young Adults)</span></p>\n\n<p><strong>Presented by Jim May</strong></p>\n
LOCATION:Woodstock Opera House 121 Van Buren Street Woodstock\, IL 60098
UID:e.2851.10287
SEQUENCE:3
DTSTAMP:20260423T085523Z
URL:https://business.woodstockilchamber.com/events/details/dracula-with-storyteller-megan-wells-10287
END:VEVENT

END:VCALENDAR
