BEGIN:VCALENDAR
VERSION:2.0
PRODID:-//ChamberMaster//Event Calendar 2.0//EN
METHOD:PUBLISH
X-PUBLISHED-TTL:P3D
REFRESH-INTERVAL:P3D
CALSCALE:GREGORIAN
BEGIN:VEVENT
DTSTART:20191214T013000Z
DTEND:20191214T040000Z
X-MICROSOFT-CDO-ALLDAYEVENT:FALSE
SUMMARY:Dragology: Christmas vs. Krampus
DESCRIPTION:Time to celebrate the holidays\, whichever you may choose. Come in your best Ugly sweater or sassiest Santa suit. All ages welcome\, cash bar for the over 21 crowd. Join Haus of Plastic and special guests for our December show on Friday the 13th. Tickets will be $5 and available as always at the door. Doors open at 7:30\, Show at 8 pm. Always all ages\, viewer discretion advised
X-ALT-DESC;FMTTYPE=text/html:<span style="background-color:rgb(255\, 255\, 255)\; color:rgb(29\, 33\, 41)\; font-family:helvetica\,arial\,sans-serif\; font-size:14px">Time to celebrate the holidays\, whichever you may choose. Come in your best Ugly sweater or sassiest Santa suit. All ages welcome\, cash bar for the over 21 crowd. Join Haus of Plastic and special guests for our December show on Friday the 13th. Tickets will be $5 and available as always at the door. Doors open at 7:30\, Show at 8 pm. Always all ages\, viewer discretion advised</span>
LOCATION:Mixin Mingle Woodstock 124 Cass St.
UID:e.2851.10473
SEQUENCE:3
DTSTAMP:20260423T053213Z
URL:https://business.woodstockilchamber.com/events/details/dragology-christmas-vs-krampus-10473
END:VEVENT

END:VCALENDAR
