BEGIN:VCALENDAR
VERSION:2.0
PRODID:-//ChamberMaster//Event Calendar 2.0//EN
METHOD:PUBLISH
X-PUBLISHED-TTL:P3D
REFRESH-INTERVAL:P3D
CALSCALE:GREGORIAN
BEGIN:VEVENT
DTSTART:20200111T013000Z
DTEND:20200111T040000Z
X-MICROSOFT-CDO-ALLDAYEVENT:FALSE
SUMMARY:Dragology: Monsters Ball
DESCRIPTION:Join Haus of Plastic and special guests for our January show on Friday the 10th as we celebrate Venus' birthday month. Come as your best Monster\, whatever moves you. Tickets will be $5 and available at the door. Doors open at 7:30\, Show at 8 pm. All ages\, viewer discretion advised. Cash bar for the 21+ crowd.
X-ALT-DESC;FMTTYPE=text/html:<span style="background-color:rgb(255\, 255\, 255)\; color:rgb(29\, 33\, 41)\; font-family:helvetica\,arial\,sans-serif\; font-size:14px">Join Haus of Plastic and special guests for our January show on Friday the 10th as we celebrate Venus&rsquo\; birthday month. Come as your best Monster\, whatever moves you. Tickets will be $5 and available at the door. Doors open at 7:30\, Show at 8 pm. All ages\, viewer discretion advised. Cash bar for the 21+ crowd. </span>
LOCATION:Mixin Mingle Woodstock 124 Cass St.
UID:e.2851.11131
SEQUENCE:3
DTSTAMP:20260423T034552Z
URL:https://business.woodstockilchamber.com/events/details/dragology-monsters-ball-11131
END:VEVENT

END:VCALENDAR
