BEGIN:VCALENDAR
VERSION:2.0
PRODID:-//ChamberMaster//Event Calendar 2.0//EN
METHOD:PUBLISH
X-PUBLISHED-TTL:P3D
REFRESH-INTERVAL:P3D
CALSCALE:GREGORIAN
BEGIN:VEVENT
DTSTART:20200215T013000Z
DTEND:20200215T040000Z
X-MICROSOFT-CDO-ALLDAYEVENT:FALSE
SUMMARY:Dragology: Vibeology/Love
DESCRIPTION:Join Haus of Plastic and special guests for our very special Valentines Day show on Friday the 14th as we celebrate Love in all forms. Bring a date or don't\, Love will be in the air. Tickets will be $5 and available at the door. Doors open at 7:30\, Show at 8 pm. All ages\, viewer discretion advised. Cash bar for the 21+ crowd.
X-ALT-DESC;FMTTYPE=text/html:<span style="background-color:rgb(255\, 255\, 255)\; color:rgb(29\, 33\, 41)\; font-family:helvetica\,arial\,sans-serif\; font-size:14px">Join Haus of Plastic and special guests for our very special Valentines Day show on Friday the 14th as we celebrate Love in all forms. Bring a date or don&#39\;t\, Love will be in the air. Tickets will be $5 and available at the door. Doors open at 7:30\, Show at 8 pm. All ages\, viewer discretion advised. Cash bar for the 21+ crowd. </span>
LOCATION:Mixin Mingle Woodstock 124 Cass St.
UID:e.2851.11132
SEQUENCE:3
DTSTAMP:20260423T020520Z
URL:https://business.woodstockilchamber.com/events/details/dragology-vibeology-love-11132
END:VEVENT

END:VCALENDAR
