BEGIN:VCALENDAR
VERSION:2.0
PRODID:-//ChamberMaster//Event Calendar 2.0//EN
METHOD:PUBLISH
X-PUBLISHED-TTL:P3D
REFRESH-INTERVAL:P3D
CALSCALE:GREGORIAN
BEGIN:VEVENT
DTSTART:20200202T133000Z
DTEND:20200202T150000Z
X-MICROSOFT-CDO-ALLDAYEVENT:FALSE
SUMMARY:Drink to World Peace
DESCRIPTION:Bill Murray and Andie MacDowell sat at this bar and drank\n\nto world peace.  Stop in after the prognostication.  If you are\n\ngoing to the official breakfast at the Moose or don't want to \n\nstand in the long line\, don't worry\, the souvenir shot glass will\n\nbe available throughout the weekend.
X-ALT-DESC;FMTTYPE=text/html:Bill Murray and Andie MacDowell sat at this bar and drank<br />\nto world peace.&nbsp\; Stop in after the prognostication.&nbsp\; If you are<br />\ngoing to the official breakfast at the Moose or don&#39\;t want to&nbsp\;<br />\nstand in the long line\, don&#39\;t worry\, the souvenir shot glass will<br />\nbe available throughout the weekend.
LOCATION:Public House 101 N. Johnson St. Woodstock\, IL
UID:e.2851.10452
SEQUENCE:3
DTSTAMP:20260423T020403Z
URL:https://business.woodstockilchamber.com/events/details/drink-to-world-peace-10452
END:VEVENT

END:VCALENDAR
