BEGIN:VCALENDAR
VERSION:2.0
PRODID:-//ChamberMaster//Event Calendar 2.0//EN
METHOD:PUBLISH
X-PUBLISHED-TTL:P3D
REFRESH-INTERVAL:P3D
CALSCALE:GREGORIAN
BEGIN:VEVENT
DTSTART:20191224T020000Z
DTEND:20191224T040000Z
X-MICROSOFT-CDO-ALLDAYEVENT:FALSE
SUMMARY:Ed Hall's Woodstock Christmas Guitar Night
DESCRIPTION:In an ongoing tribute to the great Ed Hall\, four internationally acclaimed musicians will present an evening of entertaining arrangements for the guitar as well as popular holiday favorites on the Opera House stage.  Performing will be YouTube guitar sensation\, Adam Rafferty - his fusion of acoustic fingerstyle with jazz and funk "finesse" make him stand out from many of the standard fingerstyle guitar pickers\; Antoine Dufour\, a star of fingerstyle acoustic guitar\, with a worldwide reputation for innovation and creativity\;  Peppino D'Agostino\, his unique compositional style which has been inspiring musicians and audiences alike for decades\; and your host\, award winning guitarist and songwriter\, Jeff Friedlander from Pittsburgh\, PA. Ed Hall's annual holiday tradition continues and is one you won't want to miss.\n\nPresented by Woodstock Opera House\n\nTICKETS: $33.00 All Seats
X-ALT-DESC;FMTTYPE=text/html:<p>In an ongoing tribute to the great Ed Hall\, four internationally acclaimed musicians will present an evening of entertaining arrangements for the guitar as well as popular holiday favorites on the Opera House stage.&nbsp\; Performing will be YouTube guitar sensation\, Adam Rafferty - his fusion of acoustic fingerstyle with jazz and funk &quot\;finesse&quot\; make him stand out from many of the standard fingerstyle guitar pickers\; Antoine Dufour\, a star of fingerstyle acoustic guitar\, with a worldwide reputation for innovation and creativity\;&nbsp\; Peppino D&rsquo\;Agostino\, his unique compositional style which has been inspiring musicians and audiences alike for decades\; and your host\, award winning guitarist and songwriter\, Jeff Friedlander from Pittsburgh\, PA. Ed Hall&rsquo\;s annual holiday tradition continues and is one you won&rsquo\;t want to miss.</p>\n\n<h6><span style="font-size:18px">Presented by Woodstock Opera House</span></h6>\n\n<h6><span style="font-size:18px">TICKETS:&nbsp\;$33.00 All Seats</span></h6>\n
LOCATION:Woodstock Opera House 121 W Van Buren Street Woodstock\, IL 60098
UID:e.2851.10418
SEQUENCE:3
DTSTAMP:20260423T053520Z
URL:https://business.woodstockilchamber.com/events/details/ed-hall-s-woodstock-christmas-guitar-night-10418
END:VEVENT

END:VCALENDAR
