BEGIN:VCALENDAR
VERSION:2.0
PRODID:-//ChamberMaster//Event Calendar 2.0//EN
METHOD:PUBLISH
X-PUBLISHED-TTL:P3D
REFRESH-INTERVAL:P3D
CALSCALE:GREGORIAN
BEGIN:VEVENT
DTSTART:20191128T010000Z
DTEND:20191128T030000Z
X-MICROSOFT-CDO-ALLDAYEVENT:FALSE
SUMMARY:Elf- The Movie
DESCRIPTION:Movies at the Opera House\n\nBuddy (Will Ferrell) was accidentally transported to the North Pole as a toddler and raised to adulthood among Santa's elves. Unable to shake the feeling that he doesn't fit in\, the adult Buddy travels to New York\, in full elf uniform\, in search of his real father. As it happens\, this is Walter Hobbs (James Caan)\, a cynical businessman. After a DNA test proves this\, Walter reluctantly attempts to start a relationship with the childlike Buddy with increasingly chaotic results.\n\nJoin us for Elf trivia at 6:45 prior to the show!\n\nPresented by Woodstock Opera House
X-ALT-DESC;FMTTYPE=text/html:<p>Movies at the Opera House</p>\n\n<p>Buddy (Will Ferrell) was accidentally transported to the North Pole as a toddler and raised to adulthood among Santa&#39\;s elves. Unable to shake the feeling that he doesn&#39\;t fit in\, the adult Buddy travels to New York\, in full elf uniform\, in search of his real father. As it happens\, this is Walter Hobbs (James Caan)\, a cynical businessman. After a DNA test proves this\, Walter reluctantly attempts to start a relationship with the childlike Buddy with increasingly chaotic results.</p>\n\n<p>Join us for Elf&nbsp\;trivia at 6:45 prior to the show!</p>\n\n<p>Presented by Woodstock Opera House</p>\n
LOCATION:Woodstock Opera House 121 Van Buren Street Woodstock\, IL 60098
UID:e.2851.10323
SEQUENCE:3
DTSTAMP:20260423T072324Z
URL:https://business.woodstockilchamber.com/events/details/elf-the-movie-10323
END:VEVENT

END:VCALENDAR
