BEGIN:VCALENDAR
VERSION:2.0
PRODID:-//ChamberMaster//Event Calendar 2.0//EN
METHOD:PUBLISH
X-PUBLISHED-TTL:P3D
REFRESH-INTERVAL:P3D
CALSCALE:GREGORIAN
BEGIN:VEVENT
DTSTART:20191027T010000Z
DTEND:20191027T030000Z
X-MICROSOFT-CDO-ALLDAYEVENT:FALSE
SUMMARY:Farewell Angelina
DESCRIPTION:Named after a haunting Bob Dylan song\, Farewell Angelina is an all-female country group with four powerhouse vocalists\, dynamic songwriters and accomplished multi-instrumentalists. Their stellar blend of heart-stopping harmonies over blazing double violins and guitars has earned soaring praise across the board.\n\nRoughstock calls them a "Superstar Act... with Killer Songs."\n\nRolling Stone says\, "Wickedly smart songwriting delivered with a healthy dash of sass... deft playing... into one sonic knockout punch."\n\nPresented by Woodstock Opera House
X-ALT-DESC;FMTTYPE=text/html:<p>Named after a haunting Bob Dylan song\, Farewell Angelina is an all-female country group with four powerhouse vocalists\, dynamic songwriters and accomplished multi-instrumentalists. Their stellar blend of heart-stopping harmonies over blazing double violins and guitars has earned soaring praise across the board.</p>\n\n<p>Roughstock calls them a &quot\;Superstar Act... with Killer Songs.&quot\;</p>\n\n<p>Rolling Stone says\, &quot\;Wickedly smart songwriting delivered with a healthy dash of sass... deft playing... into one sonic knockout punch.&quot\;</p>\n\n<p><strong>Presented by Woodstock Opera House</strong></p>\n
LOCATION:Woodstock Opera House 121 Van Buren Street Woodstock\, IL 60098
UID:e.2851.10288
SEQUENCE:3
DTSTAMP:20260423T102556Z
URL:https://business.woodstockilchamber.com/events/details/farewell-angelina-10288
END:VEVENT

END:VCALENDAR
