BEGIN:VCALENDAR
VERSION:2.0
PRODID:-//ChamberMaster//Event Calendar 2.0//EN
METHOD:PUBLISH
X-PUBLISHED-TTL:P3D
REFRESH-INTERVAL:P3D
CALSCALE:GREGORIAN
BEGIN:VEVENT
DTSTART:20191013T170000Z
DTEND:20191013T200000Z
X-MICROSOFT-CDO-ALLDAYEVENT:FALSE
SUMMARY:Farmapalooza
DESCRIPTION:Pig Roast & Fun on the Farm\n\n\n\n\nOur inaugural Farmapalooza to benefit GiGI's Playhouse McHenry County was a huge success thanks to the hundreds of people who came out to enjoy the day!  We look forward to making the event bigger and better this year. We will be featuring live music during the pig roast!  Mark your calendars for October 13\, 2019!\n\nGiGi's Playhouse Down Syndrome Achievement Center's mission is to change the way the world views Down syndrome through national campaigns\, educational programs\, and by empowering individuals with Down syndrome\, their families and the community.  We offer free therapeutic and educational programming to individuals with Down syndrome and their families. \n\nPrograms are always free to our families\, although they are not free to us.  Updating and constructing custom program materials and creating new programs represent just some of our expenses.  Your generous support combined with our wonderful individuals will help make miracles happen. \n\n\n\nTickets for the Pig Roast and Fun on the Farm provides a  delicious meal provided by Porkies and Terra Vitae Farms\, including:\n\n\n\n\nPulled Pork     Homemade BBQ Sauce\n\nMac 'n' Cheese     Chicken Bombs\n\nBaked Beans     Green Beans     Vegetarian Lasagna\n\nRolls     Potato Chips\n\nBottled Water     Warm Apple Cider\n\nFood will be served from 1:00 - 2:00 PM
X-ALT-DESC;FMTTYPE=text/html:<h3 style="box-sizing: border-box\; font-family: Bitter\, serif\; font-weight: 400\; line-height: 1.4\; color: rgb(122\, 193\, 67)\; margin-top: 20px\; margin-bottom: 10px\; font-size: 24px\; background-color: rgb(255\, 255\, 255)\; text-align: center\;"><span class="TextRun SCXW166153961 BCX4" data-contrast="none" lang="EN" style="box-sizing: border-box\;" xml:lang="EN">Pig Roast &amp\;</span><span class="TextRun SCXW166153961 BCX4" data-contrast="none" lang="EN" style="box-sizing: border-box\;" xml:lang="EN">&nbsp\;Fun on the Farm</span></h3>\n\n<div background-color:="" class="fl-module fl-module-rich-text fl-node-5d4b00f098e1c" data-node="5d4b00f098e1c" font-size:="" pontano="" style="box-sizing: border-box\; zoom: 1\; color: rgb(128\, 128\, 128)\; font-family: ">\n<div class="fl-module-content fl-node-content" style="box-sizing: border-box\; zoom: 1\; margin: 20px 20px 0px\;">\n<div class="fl-rich-text" style="box-sizing: border-box\;">\n<p style="box-sizing: border-box\; margin: 0px 0px 10px\; text-align: center\;"><span data-contrast="auto" style="box-sizing: border-box\;">Our inaugural Farmapalooza to benefit GiGI&rsquo\;s Playhouse McHenry County was a huge success thanks to the hundreds of people who came out to enjoy the day!&nbsp\; We look forward to making the event bigger and better this year. We&nbsp\;</span><span data-contrast="auto" style="box-sizing: border-box\;">will be featuring&nbsp\;</span><span style="box-sizing: border-box\; font-weight: 700\;">live music&nbsp\;</span><span data-contrast="auto" style="box-sizing: border-box\;">during the pig roast!&nbsp\; Mark your calendars for&nbsp\;<strong style="box-sizing: border-box\;">October 13\, 2019!</strong></span></p>\n\n<p style="box-sizing: border-box\; margin: 0px 0px 10px\; text-align: center\;"><span data-contrast="auto" style="box-sizing: border-box\;">GiGi&rsquo\;s Playhouse Down Syndrome Achievement Center&rsquo\;s mission is to change the way the world views Down syndrome through national campaigns\, educational programs\, and by empowering individuals with Down syndrome\, their families and the community.&nbsp\; We offer free therapeutic and educational programming to individuals with Down syndrome and their families.</span><span data-ccp-props="{" style="box-sizing: border-box\;">&nbsp\;</span></p>\n\n<p style="box-sizing: border-box\; margin: 0px 0px 10px\; text-align: center\;"><span data-contrast="auto" style="box-sizing: border-box\;">Programs are always free to our families\, although they are not free to us.&nbsp\; Updating and constructing custom program materials and creating new programs represent just some of our expenses.&nbsp\; Your generous support combined with our wonderful individuals will help make miracles happen.</span><span data-ccp-props="{" style="box-sizing: border-box\;">&nbsp\;</span></p>\n\n<p class="normal" style="line-height: 150%\; text-align: center\;"><br />\n<strong style="box-sizing: border-box\;">Tickets for the Pig Roast and Fun on the Farm provides a&nbsp\; delicious meal provided by Porkies and Terra Vitae Farms\, including:</strong></p>\n</div>\n</div>\n</div>\n\n<p background-color:="" font-size:="" pontano="" style="box-sizing: border-box\; margin: 0px 0px 10px\; color: rgb(128\, 128\, 128)\; font-family: " text-align:="">Pulled Pork&nbsp\; &bull\;&nbsp\; Homemade BBQ Sauce<br style="box-sizing: border-box\;" />\nMac &#39\;n&#39\; Cheese&nbsp\; &bull\;&nbsp\; Chicken Bombs<br style="box-sizing: border-box\;" />\nBaked Beans&nbsp\; &bull\;&nbsp\; Green Beans&nbsp\; &bull\;&nbsp\; Vegetarian Lasagna<br style="box-sizing: border-box\;" />\nRolls&nbsp\; &bull\;&nbsp\; Potato Chips<br style="box-sizing: border-box\;" />\nBottled Water&nbsp\; &bull\;&nbsp\; Warm Apple Cider<br />\n<em background-color:="" font-size:="" pontano="" style="box-sizing: border-box\; color: rgb(128\, 128\, 128)\; font-family: " text-align:="">Food will be served from 1:00 - 2:00 PM</em></p>\n
LOCATION:Terra Vitae Farms 2719 Greenwood Road Woodstock\, IL 60098
UID:e.2851.10302
SEQUENCE:3
DTSTAMP:20260423T085406Z
URL:https://business.woodstockilchamber.com/events/details/farmapalooza-10-13-2019-10302
END:VEVENT

END:VCALENDAR
