BEGIN:VCALENDAR
VERSION:2.0
PRODID:-//ChamberMaster//Event Calendar 2.0//EN
METHOD:PUBLISH
X-PUBLISHED-TTL:P3D
REFRESH-INTERVAL:P3D
CALSCALE:GREGORIAN
BEGIN:VEVENT
DTSTART:20190908T130000Z
DTEND:20190908T220000Z
X-MICROSOFT-CDO-ALLDAYEVENT:FALSE
SUMMARY:Flea Market - Roscoe Woodstock Antique Mall
DESCRIPTION:Outdoor Flea Market
X-ALT-DESC;FMTTYPE=text/html:Outdoor Flea Market
LOCATION:Roscoe Woodstock Antique Mall 890 Lake Ave. | Woodstock\, IL 60098 Phone: 815-334-8960
UID:e.2851.10250
SEQUENCE:3
DTSTAMP:20260423T111002Z
URL:https://business.woodstockilchamber.com/events/details/flea-market-roscoe-woodstock-antique-mall-10250
END:VEVENT

END:VCALENDAR
