BEGIN:VCALENDAR
VERSION:2.0
PRODID:-//ChamberMaster//Event Calendar 2.0//EN
METHOD:PUBLISH
X-PUBLISHED-TTL:P3D
REFRESH-INTERVAL:P3D
CALSCALE:GREGORIAN
BEGIN:VEVENT
DTSTART:20200703T000000Z
DTEND:20200703T020000Z
X-MICROSOFT-CDO-ALLDAYEVENT:FALSE
SUMMARY:Frida: Viva La Vida - Great Art on Screen
DESCRIPTION:Frida - Viva La Vida is a cinematic documentary event film that highlights the two sides of Frida Kahlo's spirit: a revolutionary pioneering artist of contemporary feminism\, and on the other\, a human being tormented by agony and love.\n\nWith Asia Argento as narrator\, the two faces of the artist will be revealed\, by pursuing a common thread consisting of Frida's own words: letters\, diaries and private confessions. The documentary film event will alternate interviews with historical documents\, captivating reconstructions and Frida Kahlo's own paintings\, kept in some of the most amazing museums in Mexico.\n\nPresented by Woodstock Opera House in partnership with Woodstock Fine Arts Association\n\nTICKETS: $18.00 Adult\, $15.00 Senior\, $13.00 Student\,  $13.00 Groups (20 or more)\n\n\n\nhttps://www.woodstockoperahouse.com/operahouse/page/frida-viva-la-vida
X-ALT-DESC;FMTTYPE=text/html:<h1>&nbsp\;</h1>\n\n<p>Frida - Viva La Vida&nbsp\;is a cinematic documentary event film that highlights the two sides of Frida Kahlo&rsquo\;s spirit: a revolutionary pioneering artist of contemporary feminism\, and on the other\, a human being tormented by agony and love.</p>\n\n<p>With Asia Argento as narrator\, the two faces of the artist will be revealed\, by pursuing a common thread consisting of Frida&rsquo\;s own words: letters\, diaries and private confessions. The documentary film event will alternate interviews with historical documents\, captivating reconstructions and Frida Kahlo&rsquo\;s own paintings\, kept in some of the most amazing museums in Mexico.</p>\n\n<p>Presented by Woodstock Opera House in partnership with Woodstock Fine Arts Association</p>\n\n<p>TICKETS:&nbsp\;$18.00 Adult\, $15.00 Senior\, $13.00 Student\,&nbsp\; $13.00 Groups (20 or more)<br />\n<br />\n<a href="https://www.woodstockoperahouse.com/operahouse/page/frida-viva-la-vida">https://www.woodstockoperahouse.com/operahouse/page/frida-viva-la-vida</a></p>\n
LOCATION:Woodstock Opera House 121 Van Buren Street Woodstock\, IL 60098
UID:e.2851.11216
SEQUENCE:3
DTSTAMP:20260422T172827Z
URL:https://business.woodstockilchamber.com/events/details/frida-viva-la-vida-great-art-on-screen-11216
END:VEVENT

END:VCALENDAR
