BEGIN:VCALENDAR
VERSION:2.0
PRODID:-//ChamberMaster//Event Calendar 2.0//EN
METHOD:PUBLISH
X-PUBLISHED-TTL:P3D
REFRESH-INTERVAL:P3D
CALSCALE:GREGORIAN
BEGIN:VEVENT
DTSTART:20200501T223000Z
DTEND:20200502T030000Z
X-MICROSOFT-CDO-ALLDAYEVENT:FALSE
SUMMARY:Gathering for Good
DESCRIPTION:Main Stay Therapeutic Farm is hosting our annual dinner gala "Gathering For Good" on Friday\, May 1\, 2020 from 5:30pm- 10:00pm at the historic Starline Factory building in Harvard\, Illinois. This signature event boasts cocktails\, live music\, dinner\, silent auction items\, raffles and more! Main Stay's annual dinner gala is a well-established\, fun-filled evening that sells out every year.
X-ALT-DESC;FMTTYPE=text/html:<span style="color:rgb(0\, 0\, 0)\; font-family:arial\,sans-serif\; font-size:12pt">Main Stay Therapeutic Farm is hosting our annual dinner gala </span><strong><u><span style="font-family:lucida fax\,serif\; font-size:12pt">&ldquo\;Gathering For Good&rdquo\;</span></u></strong><span style="color:rgb(0\, 0\, 0)\; font-family:arial\,sans-serif\; font-size:12pt"> </span><span style="color:rgb(0\, 0\, 0)\; font-family:arial\,sans-serif\; font-size:12pt">on Friday\, May 1\, 2020 from 5:30pm- 10:00pm at the historic Starline Factory building in Harvard\, Illinois. This signature event boasts cocktails\, live music\, dinner\, silent auction items\, raffles and more!&nbsp\;Main Stay&rsquo\;s annual dinner gala<strong> </strong>is a well-established\, fun-filled evening that sells out every year.&nbsp\;</span>
LOCATION:Starline Factory 300 W. Front Street Harvard\, IL 60033
UID:e.2851.11211
SEQUENCE:3
DTSTAMP:20260422T204235Z
URL:https://business.woodstockilchamber.com/events/details/gathering-for-good-11211
END:VEVENT

END:VCALENDAR
