BEGIN:VCALENDAR
VERSION:2.0
PRODID:-//ChamberMaster//Event Calendar 2.0//EN
METHOD:PUBLISH
X-PUBLISHED-TTL:P3D
REFRESH-INTERVAL:P3D
CALSCALE:GREGORIAN
BEGIN:VEVENT
DTSTART:20200110T010000Z
DTEND:20200110T030000Z
X-MICROSOFT-CDO-ALLDAYEVENT:FALSE
SUMMARY:Gauguin in Tahiti: Paradise Lost
DESCRIPTION:Thursday January 9\, 2020 at 7:00 PM\n\nGAUGUIN IN TAHITI: PARADISE LOST traces the legendary life story of Paul Gauguin who left France for Tahiti\, feverishly in search of deep immersions into lush nature\, for feelings\, visions and colors\, ever purer and brighter.  Audiences join this journey from Tahiti to American museums including New York's Metropolitan Museum of Art\, The Art Institute of Chicago\, National Gallery of Art in DC\, and Boston's Museum of Fine Arts where Gauguin's greatest masterpieces are now preserved. \n\nPresented by Woodstock Opera House in partnership with Woodstock Fine Arts Association\n\nTICKETS: $18.00 Adult\, $15.00 Senior\, $13.00 Student\,  $13.00 Groups (20 or more)
X-ALT-DESC;FMTTYPE=text/html:<h2>Thursday&nbsp\;January 9\,&nbsp\;2020 at 7:00 PM</h2>\n\n<p>GAUGUIN&nbsp\;IN TAHITI:&nbsp\;PARADISE LOST&nbsp\;traces the legendary life story of Paul Gauguin who left France for Tahiti\, feverishly in search of deep immersions into lush nature\, for feelings\, visions and colors\, ever purer and brighter.&nbsp\; Audiences join this journey from Tahiti to American museums&nbsp\;including New York&#39\;s&nbsp\;Metropolitan Museum of Art\, The&nbsp\;Art Institute of Chicago\,&nbsp\;National Gallery of Art in DC\, and Boston&#39\;s&nbsp\;Museum of Fine Arts where Gauguin&rsquo\;s greatest masterpieces are now&nbsp\;preserved.&nbsp\;</p>\n\n<h3>Presented by Woodstock Opera House in partnership with Woodstock Fine Arts Association</h3>\n\n<p><a href="https://www.ticketreturn.com/prod2/Buy.asp?EventID=300069#.Xc2rzVdKiUl">TICKETS:&nbsp\;$18.00 Adult\, $15.00 Senior\, $13.00 Student\,&nbsp\; $13.00 Groups (20 or more)</a></p>\n
LOCATION:Woodstock Opera House 121 Van Buren Street Woodstock\, IL 60098
UID:e.2851.10449
SEQUENCE:3
DTSTAMP:20260423T041651Z
URL:https://business.woodstockilchamber.com/events/details/gauguin-in-tahiti-paradise-lost-10449
END:VEVENT

END:VCALENDAR
