BEGIN:VCALENDAR
VERSION:2.0
PRODID:-//ChamberMaster//Event Calendar 2.0//EN
METHOD:PUBLISH
X-PUBLISHED-TTL:P3D
REFRESH-INTERVAL:P3D
CALSCALE:GREGORIAN
BEGIN:VEVENT
DTSTART:20200223T200000Z
DTEND:20200223T220000Z
X-MICROSOFT-CDO-ALLDAYEVENT:FALSE
SUMMARY:Giselle - Bolshoi Ballet Cinema
DESCRIPTION:A THEATRE CINEMA BROADCAST\n\nGiselle touches upon great and universal romantic themes. In this brand new production renowned choreographer Alexei Ratmansky brings a fresh perspective to one of the oldest an greatest works of classical dance\, giving an opportunity to discover this iconic ballet anew.\n\nPresented by Woodstock Opera House in partnership with National Theatre Live and distributed by BY Experience
X-ALT-DESC;FMTTYPE=text/html:<p>A THEATRE&nbsp\;CINEMA BROADCAST</p>\n\n<p>Giselle touches upon great and universal romantic themes.&nbsp\;In this brand new production renowned choreographer Alexei Ratmansky brings a fresh perspective to one of the oldest an greatest works of classical dance\, giving an opportunity&nbsp\;to discover this iconic ballet anew.</p>\n\n<h4>Presented by Woodstock Opera House in partnership with National Theatre Live and distributed by BY Experience</h4>\n
LOCATION:Woodstock Opera House 121 Van Buren Street Woodstock\, IL 60098
UID:e.2851.10675
SEQUENCE:3
DTSTAMP:20260423T020805Z
URL:https://business.woodstockilchamber.com/events/details/giselle-bolshoi-ballet-cinema-10675
END:VEVENT

END:VCALENDAR
