BEGIN:VCALENDAR
VERSION:2.0
PRODID:-//ChamberMaster//Event Calendar 2.0//EN
METHOD:PUBLISH
X-PUBLISHED-TTL:P3D
REFRESH-INTERVAL:P3D
CALSCALE:GREGORIAN
BEGIN:VEVENT
DTSTART:20191203T060000Z
DTEND:20191203T180000Z
X-MICROSOFT-CDO-ALLDAYEVENT:FALSE
SUMMARY:Giving Back to McHenry County through the United Way
DESCRIPTION:Double your impact this Giving Tuesday by donating to United Way of Greater McHenry County at givingbacktomchenry.org! Our sponsors: Associated Electrical Contractors\, LLC\, Aurora University Woodstock\, Corporate Disk Company and Service Printing Corporation will match your donation up to $6\,000. All donations benefit the needy right here in McHenry County!
X-ALT-DESC;FMTTYPE=text/html:Double your impact this Giving Tuesday by donating to United Way of Greater McHenry County at givingbacktomchenry.org! Our sponsors: Associated Electrical Contractors\, LLC\, Aurora University Woodstock\, Corporate Disk Company and Service Printing Corporation will match your donation up to $6\,000. All donations benefit the needy right here in McHenry County!
LOCATION:givingbacktomchenrycounty.org
UID:e.2851.10468
SEQUENCE:3
DTSTAMP:20260423T071732Z
URL:https://business.woodstockilchamber.com/events/details/giving-back-to-mchenry-county-through-the-united-way-10468
END:VEVENT

END:VCALENDAR
