BEGIN:VCALENDAR
VERSION:2.0
PRODID:-//ChamberMaster//Event Calendar 2.0//EN
METHOD:PUBLISH
X-PUBLISHED-TTL:P3D
REFRESH-INTERVAL:P3D
CALSCALE:GREGORIAN
BEGIN:VEVENT
DTSTART:20200913T000000Z
DTEND:20200913T020000Z
X-MICROSOFT-CDO-ALLDAYEVENT:FALSE
SUMMARY:Gizzae
DESCRIPTION:Gizzae is truly a band of the world   With musicians hailing from the four corners of the Earth. Gizzae has been playing for crowds across the country for over 35 years! Their musical experiences have collectively earned them Grammy  awards\, Chicago Music Awards and they have opened for some of the biggest names in Reggae.\n\nThey have also recorded and played professionally with such acts as: Ziggy Marley\, The Rolling Stones\, Bruce Springsteen\, Third World\, Toots and Maytals\, Burning Spear\, Carly Simon\, The Talking Heads\, Rita Marley\, Judy Mowatt\, Chachi\, Michael Black\, Moja Nya\, Dallol\, Rude Beat Society\, The Mighty Baron of Trinidad\, Bell Combo and many others. Working and playing with such a vast array of musical styles and talents has enabled Gizzae to create a unique blend of Roots Reggae.\n\nTICKETS: Free to the Public\n\n\n\nLOCATION: Park in the Square
X-ALT-DESC;FMTTYPE=text/html:<p>Gizzae&nbsp\;is truly a band of the world &ndash\; With musicians hailing from the four corners of the Earth.&nbsp\;Gizzae&nbsp\;has been playing for crowds across the country for over 35 years! Their musical experiences have collectively earned them Grammy&reg\; awards\, Chicago Music Awards and they have opened for some of the biggest names in Reggae.</p>\n\n<p>They have also recorded and played professionally with such acts as: Ziggy Marley\,&nbsp\;The Rolling Stones\, Bruce Springsteen\, Third World\, Toots and&nbsp\;Maytals\, Burning Spear\,&nbsp\;Carly Simon\, The Talking Heads\, Rita Marley\, Judy&nbsp\;Mowatt\,&nbsp\;Chachi\, Michael Black\,&nbsp\;Moja&nbsp\;Nya\,&nbsp\;Dallol\, Rude Beat Society\, The Mighty Baron of Trinidad\, Bell Combo and many others. Working and playing with such a vast array of musical styles and talents has enabled&nbsp\;Gizzae&nbsp\;to create a unique blend of Roots Reggae.</p>\n\n<p>TICKETS: Free to the Public<br />\n<br />\nLOCATION: Park in the Square</p>\n
LOCATION:Park in the Square Woodstock Square Historic District Woodstock\, IL 60098
UID:e.2851.12009
SEQUENCE:3
DTSTAMP:20260422T134544Z
URL:https://business.woodstockilchamber.com/events/details/gizzae-12009
END:VEVENT

END:VCALENDAR
