BEGIN:VCALENDAR
VERSION:2.0
PRODID:-//ChamberMaster//Event Calendar 2.0//EN
METHOD:PUBLISH
X-PUBLISHED-TTL:P3D
REFRESH-INTERVAL:P3D
CALSCALE:GREGORIAN
BEGIN:VEVENT
DTSTART:20200313T000000Z
DTEND:20200313T020000Z
X-MICROSOFT-CDO-ALLDAYEVENT:FALSE
SUMMARY:Gone with the Wind - Oscar Film Series
DESCRIPTION:Epic Civil War drama focuses on the life of petulant southern belle Scarlett O'Hara (Vivien Leigh). Starting with her idyllic on a sprawling plantation\, the film traces her survival through the tragic history of the South during the Civil War and Reconstruction\, and her tangled love affairs with Ashley Wilkes (Leslie Howard) and Rhett Butler (Clark Gable).\n\nPRESENTED BY WOODSTOCK OPERA HOUSE\n\nFuture Oscar Film Series Movies\n\nApril 9  - Casablanca\n\nMay 7 - Citizen Kane\n\nTICKETS: $7.00 All Seats\n\n\n\nhttps://www.woodstockoperahouse.com/operahouse/page/gone-wind-oscar-film-series
X-ALT-DESC;FMTTYPE=text/html:<p>&nbsp\;</p>\n\n<p>Epic Civil War drama focuses on the life of petulant southern belle Scarlett O&#39\;Hara (Vivien Leigh). Starting with her idyllic on a sprawling plantation\, the film traces her survival through the tragic history of the South during the Civil War and Reconstruction\, and her tangled love affairs with Ashley Wilkes (Leslie Howard) and Rhett Butler (Clark Gable).</p>\n\n<p>PRESENTED BY WOODSTOCK OPERA HOUSE</p>\n\n<p><strong>Future Oscar Film Series Movies</strong><br />\nApril 9&nbsp\; - Casablanca<br />\nMay 7 - Citizen Kane</p>\n\n<p>TICKETS:&nbsp\;$7.00 All Seats<br />\n<br />\n<a href="https://www.woodstockoperahouse.com/operahouse/page/gone-wind-oscar-film-series">https://www.woodstockoperahouse.com/operahouse/page/gone-wind-oscar-film-series</a></p>\n
LOCATION:Woodstock Opera House 121 Van Buren Street Woodstock\, IL 60098
UID:e.2851.11213
SEQUENCE:3
DTSTAMP:20260423T002738Z
URL:https://business.woodstockilchamber.com/events/details/gone-with-the-wind-oscar-film-series-11213
END:VEVENT

END:VCALENDAR
